BEGIN:VCALENDAR
VERSION:2.0
PRODID:-//Szentendrei teátrum - ECPv6.15.14//NONSGML v1.0//EN
CALSCALE:GREGORIAN
METHOD:PUBLISH
X-WR-CALNAME:Szentendrei teátrum
X-ORIGINAL-URL:https://szentendreiteatrum.hu
X-WR-CALDESC:Események Szentendrei teátrum
REFRESH-INTERVAL;VALUE=DURATION:PT1H
X-Robots-Tag:noindex
X-PUBLISHED-TTL:PT1H
BEGIN:VTIMEZONE
TZID:UTC
BEGIN:STANDARD
TZOFFSETFROM:+0000
TZOFFSETTO:+0000
TZNAME:UTC
DTSTART:20250101T000000
END:STANDARD
END:VTIMEZONE
BEGIN:VEVENT
DTSTART;TZID=UTC:20260529T190000
DTEND;TZID=UTC:20260529T203000
DTSTAMP:20260426T003639
CREATED:20260424T084843Z
LAST-MODIFIED:20260424T085350Z
UID:10001235-1780081200-1780086600@szentendreiteatrum.hu
SUMMARY:EgyÉletem: CSUJA IMRE // életrajzi stand-up est
DESCRIPTION:JEGYVÁSÁRLÁS IDE KATTINTVA \nCsuja Imre merész kalandra vállalkozik: először áll ki a színpadra\, hogy az életéről meséljen.A Jászai Mari-díjas\, érdemes művész az EgyÉletem életrajzi stand up sorozatban olyan kollégáihoz csatlakozik\, mint Mucsi Zoltán\, Thuróczy Szabolcs\, Borbély Alexandra vagy Nagy Ervin. \nAz EgyÉletem sorozat a stand up és az életrajzi színdarab „keveréke”. A főszereplők életük legfontosabb eseményeit mesélik el humoros\, önironikus formában. A forgatókönyvet itt valóban az élet írja. Az estek a stand up műfajának megfelelően vidám hangulatúak\, de a főszereplők mesélnek életük nehéz vagy érzelmes pillanatairól is. Mert csak ezekkel együtt lehet teljes az életük. \nGondolták volna\, hogy Csuja Imre Törőcsik Mari kedvéért megtanult egy farmotoros Ikaruszt vezetni? Vagy hogy fizetés kiegészítésként fuvarosként és piaci árusként is dolgozott\, amikor vidéki színházakban játszott? Vagy hogy amerikai filmekben volt közös jelenete Donald Sutherlanddel és Brad Pittel? Vagy hogy volt olyan nap az életében\, amikor négy különböző színházi előadásban játszott? És azt\, hogy a legfontosabb rendező az életében\, az édesanyja volt? Mindezekről mesél életrajzi stand up estjén. Ahogy az Üvegtigris Csokijáról is ki fog derülni\, hogy miért esett el a Babettával a film ikonikus jelenetében\, vagy hogy is kell inni a híres „vegyi gyümit”\, hogy ne folyjon az összes pálinka a nyakunkba. \nKevés színész dolgozott többet a sikerért\, mint Csuja Imre. Ő valóban végigjárta a szamárlétrát\, mire felfedezték és népszerű\, sikeres művész lett belőle. De mindvégig megmaradt végtelenül barátságos és szerethető embernek. Ezt ezen az esten is bizonyítja.Egyszer egy rendező hosszasan magyarázott neki egy próbán\, hogy mit\, hogyan kellene csinálnia a színpadon. Csuja csendben figyelt\, bólintott és csak ennyit felelt: „Holnap ráküldöm az ösztönt!” \nAbban biztosak lehetnek\, hogy ezen a színházi estén sem fogja vissza magát Imre és „ráküldi az ösztönt”. És ennek mi\, nézők\, csak örülhetünk! \nFŐSZEREPLŐ Csuja Imre  \nÍró-rendező Lévai Balázs I Látvány Kőváry Dániel és Bálint Dezső I Fény Ács István I Produkciós menedzser Fantoly Nikolett \nEgyÉletem Produkció \nAz előadás hossza: kb. 90 perc\, szünet nélkül\nJegyár: 7900-9900 Ft \nJEGYVÁSÁRLÁS IDE KATTINTVA
URL:https://szentendreiteatrum.hu/event/egyeletem-csuja-imre-eletrajzi-stand-up-estje/
LOCATION:Hamvas Béla Pest Megyei Könyvtár színházterem\, Pátriárka utca 7.\, Szentendre\, Pest\, 2000\, Magyarország
CATEGORIES:Kiemelt,Stand up,Színház
ATTACH;FMTTYPE=image/jpeg:https://szentendreiteatrum.hu/wp-content/uploads/2026/04/Csuja.jpg
GEO:47.6694699;19.074893
X-APPLE-STRUCTURED-LOCATION;VALUE=URI;X-ADDRESS=Hamvas Béla Pest Megyei Könyvtár színházterem Pátriárka utca 7. Szentendre Pest 2000 Magyarország;X-APPLE-RADIUS=500;X-TITLE=Pátriárka utca 7.:geo:19.074893,47.6694699
END:VEVENT
BEGIN:VEVENT
DTSTART;TZID=UTC:20260531T170000
DTEND;TZID=UTC:20260531T190000
DTSTAMP:20260426T003639
CREATED:20260421T135212Z
LAST-MODIFIED:20260421T140034Z
UID:10001038-1780246800-1780254000@szentendreiteatrum.hu
SUMMARY:EMBERI BESTIÁK bepillantás a sorozatgyilkosok világába // Doszpot Péter és Antal Gábor exkluzív estje
DESCRIPTION:  \nJEGYVÁSÁRLÁS IDE KATTINTVA  \nSorozatgyilkosok nyomában – Doszpot Péter és Antal Gábor exkluzív estje \nKik is valójában a sorozatgyilkosok? Mi rejlik torzult lelkük mélyén\, milyen motivációk fűtik őket a kegyetlen és bizarr tetteikhez? Hogyan gondolkodik egy pszichopata – és vajon gyógyítható-e?Milyen nyomozói kvalitások kellenek ahhoz\, hogy a rendőrség rátaláljon a nyomukra? Van-e ellenszer ellenük\, hibázhatnak-e ők is\, segítve ezzel a lebukásukat? \nAz esten Doszpot Péter\, a volt kiemelt gyilkossági főnyomozó\, és Antal Gábor\, a tanácsadó szakpszichológus tárják fel a közönség előtt a sorozatgyilkosság sötét világát. Filmrészletek és valódi bűnügyi esetek segítségével mutatják be\, miként fonódik össze a bűnüldözés és a pszichológia a 20. század és napjaink hírhedt hazai és nemzetközi ügyeiben. \nVajon szükséges-e gyermekkori trauma ahhoz\, hogy valakiből sorozatgyilkos váljon? Mit mond a tudomány\, és mit mesél a terepen szerzett tapasztalat?Egy este\, ahol választ kaphatunk a legnyugtalanítóbb kérdésekre – két szakember\, két nézőpont\, egyedülálló élmény. \nFedezd fel velünk a sorozatgyilkosok világát – várunk szeretettel az előadáson! \nA Szervező és a Produkció fenntartja a jogot mindennemű változtatással kapcsolatban. \nAz előadás hossza: kb. 120 perc\nJegyár: 6900 Ft \nJEGYVÁSÁRLÁS IDE KATTINTVA
URL:https://szentendreiteatrum.hu/event/emberi-bestiak-bepillantas-a-sorozatgyilkosok-vilagaba-doszpot-peter-es-antal-gabor-exkluziv-estje/
LOCATION:Hamvas Béla Pest Megyei Könyvtár színházterem\, Pátriárka utca 7.\, Szentendre\, Pest\, 2000\, Magyarország
CATEGORIES:Kiemelt,Talkshow,Talkshow
ATTACH;FMTTYPE=image/jpeg:https://szentendreiteatrum.hu/wp-content/uploads/2026/04/sorigyilki.jpg
GEO:47.6694699;19.074893
X-APPLE-STRUCTURED-LOCATION;VALUE=URI;X-ADDRESS=Hamvas Béla Pest Megyei Könyvtár színházterem Pátriárka utca 7. Szentendre Pest 2000 Magyarország;X-APPLE-RADIUS=500;X-TITLE=Pátriárka utca 7.:geo:19.074893,47.6694699
END:VEVENT
END:VCALENDAR