BEGIN:VCALENDAR
VERSION:2.0
PRODID:-//Szentendrei teátrum - ECPv6.15.14//NONSGML v1.0//EN
CALSCALE:GREGORIAN
METHOD:PUBLISH
X-WR-CALNAME:Szentendrei teátrum
X-ORIGINAL-URL:https://szentendreiteatrum.hu
X-WR-CALDESC:Események Szentendrei teátrum
REFRESH-INTERVAL;VALUE=DURATION:PT1H
X-Robots-Tag:noindex
X-PUBLISHED-TTL:PT1H
BEGIN:VTIMEZONE
TZID:UTC
BEGIN:STANDARD
TZOFFSETFROM:+0000
TZOFFSETTO:+0000
TZNAME:UTC
DTSTART:20250101T000000
END:STANDARD
END:VTIMEZONE
BEGIN:VEVENT
DTSTART;TZID=UTC:20260427T190000
DTEND;TZID=UTC:20260427T220000
DTSTAMP:20260425T215122
CREATED:20260321T182014Z
LAST-MODIFIED:20260321T182458Z
UID:10001233-1777316400-1777327200@szentendreiteatrum.hu
SUMMARY:A FELESÉG NEGYVENNÉL KEZDŐDIK házasságjavító komédia
DESCRIPTION:Linda unja 17 éves házasságát\, angol kertvárosi életét\, a negyedik x közeledtét\, de főleg a férjét\, George-ot. Erről azonban a férfi nem akar tudomást venni\, neki minden úgy jó\, ahogy van. De amikor George elalszik szeretkezés közben\, Lindának végképp elege lesz: úgy érzi\, joga van még minőségi érzékiséghez\, figyelemhez\, szerelmemhez\, élethez. Válni akar.\nKamasz fiuk becsajozik\, a szenilis nagypapa katonatörténeteket darál\, a legjobb barátok elképesztő tanácsokat adnak\, és a felfordulás közepén ott áll szegény George. Aki – némi rásegítéssel a bárszekrényből -\, veszélyes útra lép: elhatározza\, hogy megfiatalítja a házasságát. \nSzereplők\nGeorge Harper………………… BELEZNAY ENDRE\nLinda Harper…………………… PIKALI GERDA\nRoger Dixon……………………. NÉMETH KRISTÓF\nBetty Dixon…………………….. GREGOR BERNADETT\nBernard Harper……………….. SZŰCS SÁNDOR\nLeonard Harper……………….. NÁRAY-KOVÁCS ZSOMBOR \nÍrta: RAY COONEY\nFordította: Beleznay Endre \nAlkotók\nDíszlet\, jelmeztervező:  Csík György\nAsszisztens/súgó: Juhász Andrea\nRendező: NÉMETH KRISTÓF és BELEZNAY ENDRE\nProducer: NÉMETH KRISTÓF \nA változtatás jogát fenntartjuk! Az előadás a Fórum Színház és a Szentendrei Teátrum koprodukciója.\nAz előadást a Kulturális és Innovációs Minisztérium támogatja.\nA szerzők engedélyét a Concorde Theatricals (USA) és a Hofra Kft. közvetítette. hofra.hu \n14 éven felülieknek ajánljuk!  \nAz előadás hossza: 180 perc\, 1 szünetteló\nJegyár: 10900 Ft
URL:https://szentendreiteatrum.hu/event/a-feleseg-negyvennel-kezdodik-hazassagjavito-komedia-6/
LOCATION:Hamvas Béla Pest Megyei Könyvtár színházterem\, Pátriárka utca 7.\, Szentendre\, Pest\, 2000\, Magyarország
CATEGORIES:Előadás,Kiemelt,Színház,Vígjáték
ATTACH;FMTTYPE=image/jpeg:https://szentendreiteatrum.hu/wp-content/uploads/2025/11/F40-7.jpg
GEO:47.6694699;19.074893
X-APPLE-STRUCTURED-LOCATION;VALUE=URI;X-ADDRESS=Hamvas Béla Pest Megyei Könyvtár színházterem Pátriárka utca 7. Szentendre Pest 2000 Magyarország;X-APPLE-RADIUS=500;X-TITLE=Pátriárka utca 7.:geo:19.074893,47.6694699
END:VEVENT
BEGIN:VEVENT
DTSTART;TZID=UTC:20260428T190000
DTEND;TZID=UTC:20260428T203000
DTSTAMP:20260425T215122
CREATED:20260421T125259Z
LAST-MODIFIED:20260421T134506Z
UID:10001032-1777402800-1777408200@szentendreiteatrum.hu
SUMMARY:EgyÉletünk: NAGY ERVIN & BORBÉLY ALEXANDRA // életrajzi stand-up est
DESCRIPTION:JEGYVÁSÁRLÁS EZEN A LINKEN\n\n„Borbély Alexandra és Nagy Ervin az estjükön beengednek minket a nehézségeikbe – sok humorral\, önironikusan\, viccesen…..Minden előjön: a tehetség\, az összhang\, az egymásra figyelés\, a szerelem.”Sümegi Noémi – index.hu\n\n„A másfél órás produkció tökéletesen van komponálva\, a beszélgetős\, vitatkozós\, élcelődős blokkokat fotók és filmrészletek bejátszásával színesítik… Borbély Alexandra és Nagy Ervin viszi magával a közönséget\, és úgy játszanak\, hogy nem is játszanak. Csak hozzák magukat\, és ez a tökéletes kikapcsolódáshoz pont elég!”Steindl Gabriella – deszkavizio.hu\n\nAz EGY ÉLETEM sorozatban ismert művészek mesélnek életükről\, a sorsfordító pillanatokról és azokról a történetekről\, amelyek igazán meghatározták őket.\n\nEgy különleges\, rendhagyó előadással folytatódik a sorozat. Ezúttal nem egy ember áll ki a színpadra\, hogy elmesélje az életét\, hanem egy házaspár. Nem is akármilyen pár.\n\nBorbély Alexandra és Nagy Ervin Magyarország egyik legismertebb és legizgalmasabb színészpárja. De ezen az estén nem szerepekbe bújva\, hanem önmagukként állnak színpadra. Bár ritkán engednek bepillantást a magánéletükbe\, most először mesélik el közösen\, hogyan lett egy véletlen találkozásból a színházi büfében több évvel később házasság\, majd két csodálatos ikerlány.\n\nJöhet kritika vagy elsöprő siker\, ők a földön járnak. Éjszakánként nem alszanak\, néha egymásra csapják az ajtót\, de közben mégis valami nagyon értékeset építenek: egy családot.\n\nŐszintén\, humorral és olykor megható pillanatokkal mesélik el\, milyen próbák sora vezetett oda\, hogy most egyszerre élhetik életük legszebb és legnehezebb pillanatait.\n\nEgy életük\, egy szerelmük – kiállnak Önök elé\, hogy elmeséljék a saját történetüket.\n\n\n„Borbély Alexandra és Nagy Ervin az estjükön beengednek minket a nehézségeikbe – sok humorral\, önironikusan\, viccesen…..Minden előjön: a tehetség\, az összhang\, az egymásra figyelés\, a szerelem.”\nSümegi Noémi – index.hu \n„A másfél órás produkció tökéletesen van komponálva\, a beszélgetős\, vitatkozós\, élcelődős blokkokat fotók és filmrészletek bejátszásával színesítik… Borbély Alexandra és Nagy Ervin viszi magával a közönséget\, és úgy játszanak\, hogy nem is játszanak. Csak hozzák magukat\, és ez a tökéletes kikapcsolódáshoz pont elég!”\nSteindl Gabriella – deszkavizio.hu \nAz EGY ÉLETEM sorozatban ismert művészek mesélnek életükről\, a sorsfordító pillanatokról és azokról a történetekről\, amelyek igazán meghatározták őket. \nBorbély Alexandra és Nagy Ervin Magyarország egyik legismertebb és legizgalmasabb színészpárja. De ezen az estén nem szerepekbe bújva\, hanem önmagukként állnak színpadra. Bár ritkán engednek bepillantást a magánéletükbe\, most először mesélik el közösen\, hogyan lett egy véletlen találkozásból a színházi büfében több évvel később házasság\, majd két csodálatos ikerlány. Nem szeretnénk spoilerezni\, de velük minden (megismerkedés\, első randi\, eljegyzés\, esküvő\, gyerekek születése) úgy történt meg\, mintha Woody Allen írta volna a forgatókönyvét. \n\nALKOTÓK:\nÍrta Fehér Boldizsár I Látvány: Kőváry Dániel I Fény: Ács István I Produkciós menedzser: Boros Panna I Rendező-producer: Lévai Balázs \n\nSZEREPLŐK Borbély Alexandra és Nagy Ervin\nAz előadás hossza: kb. 90 perc\nJegyár: 7900-9900 Ft \nJEGYVÁSÁRLÁS EZEN A LINKEN
URL:https://szentendreiteatrum.hu/event/egyeletunk-nagy-ervin-borbely-alexandra-eletrajzi-stand-up-estje/
LOCATION:Hamvas Béla Pest Megyei Könyvtár színházterem\, Pátriárka utca 7.\, Szentendre\, Pest\, 2000\, Magyarország
CATEGORIES:Előadás,Kiemelt,Stand up,Színház
ATTACH;FMTTYPE=image/jpeg:https://szentendreiteatrum.hu/wp-content/uploads/2026/04/Egy-eletem.jpg
GEO:47.6694699;19.074893
X-APPLE-STRUCTURED-LOCATION;VALUE=URI;X-ADDRESS=Hamvas Béla Pest Megyei Könyvtár színházterem Pátriárka utca 7. Szentendre Pest 2000 Magyarország;X-APPLE-RADIUS=500;X-TITLE=Pátriárka utca 7.:geo:19.074893,47.6694699
END:VEVENT
BEGIN:VEVENT
DTSTART;TZID=UTC:20260430T190000
DTEND;TZID=UTC:20260430T203000
DTSTAMP:20260425T215122
CREATED:20260421T131153Z
LAST-MODIFIED:20260421T135627Z
UID:10001034-1777575600-1777581000@szentendreiteatrum.hu
SUMMARY:James Fritz: 4:12 // Loupe Színházi Társulás
DESCRIPTION:JEGYVÁSÁRLÁS IDE KATTINTVA \nJames Fritz 4:12 című darabja egy izgalmas\, provokatív és mélyen elgondolkodtató dráma\, amely az online világ sötét oldalát tárja fel. A történet egy középiskolás fiú\, Jack körül forog\, aki egy kompromittáló videó miatt kerül bajba\, és szülei kétségbeesetten próbálnak megoldást találni. A darab mesterien vizsgálja a digitális kor erkölcsi dilemmáit\, a szülői felelősség kérdéseit és a személyes tér sérülékenységét. Fritz éleslátással és érzékenységgel mutatja be\, hogyan befolyásolják az online események a valós életet és a családi dinamikákat. A 4:12 egy felkavaró és aktuális színházi élmény\, amely a Loupe eddigi előadásaihoz hasonlóan hosszú ideig a nézők gondolataiban marad majd. \nJÁTSSZÁK Lengyel Tamás I Gryllus Dorka I Váradi Gergely I Trill Beatrix\nFordította Horváth János Antal I Zeneszerző: Farkas Virág “Zazie” I Dramaturg: Balassa Eszter I Látványtervező: Szolnoki Minna I A rendező munkatársa: Fazekas Anna\nRENDEZŐ Horváth János Antal\n\nA Loupe Színházi Társulás előadása. \n\nA darab hossza: kb. 90 perc\nJegyár: 8990 – 20 280 Ft\n\nJEGYVÁSÁRLÁS IDE KATTINTVA 
URL:https://szentendreiteatrum.hu/event/james-fritz-412-a-loupe-szinhazi-tarsulas-eloadasa/
LOCATION:Hamvas Béla Pest Megyei Könyvtár színházterem\, Pátriárka utca 7.\, Szentendre\, Pest\, 2000\, Magyarország
CATEGORIES:Előadás,Kiemelt,kortárs színdarab,Színház
ATTACH;FMTTYPE=image/jpeg:https://szentendreiteatrum.hu/wp-content/uploads/2026/04/4-12.jpg
GEO:47.6694699;19.074893
X-APPLE-STRUCTURED-LOCATION;VALUE=URI;X-ADDRESS=Hamvas Béla Pest Megyei Könyvtár színházterem Pátriárka utca 7. Szentendre Pest 2000 Magyarország;X-APPLE-RADIUS=500;X-TITLE=Pátriárka utca 7.:geo:19.074893,47.6694699
END:VEVENT
END:VCALENDAR