BEGIN:VCALENDAR
VERSION:2.0
PRODID:-//Szentendrei teátrum - ECPv6.15.14//NONSGML v1.0//EN
CALSCALE:GREGORIAN
METHOD:PUBLISH
X-WR-CALNAME:Szentendrei teátrum
X-ORIGINAL-URL:https://szentendreiteatrum.hu
X-WR-CALDESC:Események Szentendrei teátrum
REFRESH-INTERVAL;VALUE=DURATION:PT1H
X-Robots-Tag:noindex
X-PUBLISHED-TTL:PT1H
BEGIN:VTIMEZONE
TZID:UTC
BEGIN:STANDARD
TZOFFSETFROM:+0000
TZOFFSETTO:+0000
TZNAME:UTC
DTSTART:20250101T000000
END:STANDARD
END:VTIMEZONE
BEGIN:VEVENT
DTSTART;TZID=UTC:20260408T190000
DTEND;TZID=UTC:20260408T210000
DTSTAMP:20260426T004353
CREATED:20260220T111245Z
LAST-MODIFIED:20260401T080218Z
UID:10001218-1775674800-1775682000@szentendreiteatrum.hu
SUMMARY:ELMARAD! FUKUYAMA UTÁN állapotdráma / HELYETTE: DZSANNI BpSkizo Csoport élőfilm-vetítése a Barlangban
DESCRIPTION:  \nA Fukuyama után c. előadás ELMARAD\, helyette ajánljuk a DZSANNI élőfilm-vetítést április 8-án\, 19 órától a Barlangban!  A BELÉPÉS INGYENES!  \n  \nKöszörüli torkát a Politikai Reménytelenek Omladozó Liberális Illúzióinak Kórusa (P.R.O.L.I.K.) – a fiatal\, kortárs osztrák író\, Thomas Köck drámájából kiindulva a BpSkizo Csoport groteszk humorral viszi színre instabil világunk kaotikus történéseit. \n“A történelem összes\nbe nem teljesült elvárásának\,\nmegszegett ígéretének és\nszertefoszlott reményének emlékére.”\n(Thomas Köck drámájának előszava — ford. Halasi Zoltán) \n„Francis Fukuyama A történelem vége és az utolsó ember című 1989-es esszéjében azt állítja\, hogy a liberális demokrácia a politikai és társadalmi fejlődés végállomása. Eszerint megérkeztünk a világok legjobbikába? Valóban új korszak kezdődött? Vagy csak a körülöttünk lévő hatalmi struktúrák rendeződtek át? \nA Fukuyama után egy élőfilmes eszközökkel létrehozott színházi oratórium\, amely provokatív vizualitással\, montázsokkal\, egyedi technikai megoldásokkal és eklektikus zenei aláfestéssel vezet minket egy disztópikus világba. \nA populizmus\, az illiberális demokráciák és a szétzuhanó nyugat-európai társadalom illúzióinak kontextusában kérdőjelezzük meg a haladásba vetett hitünket. \nVégzetesnek tűnő adatszivárgás történik a Boldogság- és Jövőkutató Intézetben\, miközben a Politikai Reménytelenek Omladozó Liberális Illúzióinak Kórusa (P.R.O.L.I.K.) kísérletet tesz a maga kaotikus történetének elmesélésére. A történelem utáni kórus hangján groteszk humorral egy olyan instabil világot mutatunk fel\, amelyben minden bizonytalanná vált: a hatalom\, a közösség és az önazonosság. \nThomas Köck műve szatirikus vízió\, melyet a magyar valóság dokumentarista performansszá torzít.” \n(BpSkizo Csoport) \nJenseits von Fukuyama (Fukuyama után) c. művének fordítása Halasi Zoltán munkájaként kifejezetten a BudapestiSkizo Csoport előadásához készült\, akik a Trafóban a dráma magyarországi ősbemutatójára vállalkoznak. \nA BudapestiSkizo Csoport fiatal színházi alkotók és kreatív technikusok\, médiaművészek társulata\, akik az élőfilm műfajával kísérleteznek\, és digitális technológiával ötvözik a színház\, a film és a képzőművészet eszközeit. \nTanulmányaikat 2020-ban a pandémia és az SZFE modellváltása szakította meg\, ekkor hozták létre első digitális technológiákat alkalmazó előadásukat\, a Budapesti Skizót\, Hazai Attila regénye alapján. Következő projektjük\, a dzsanni után megalapították a BudapestiSkizo Csoportot és létrehozták saját kreatív műhelyüket egy régi gyárépületben. 2023-ban Bagossy László meghívására Stuttgartban mutatták be a Gianni-t\, amely meghozta előadásaik első nemzetközi sikerét. \nSZEREPLŐK Peer\, Mr. Történelem: Váradi Gergely I Miriam\, Miss 90-es Évek: Kozma Veronika I Finn:\nBán Bálint I Julia\, Vágy: Rezes Dominika I Dr. Schnitt: Messaoudi Emina I Karvezető\, Kínai Drón Úr\, dr. James Olds: Szacsvai István \nÍRÓ Thomas Köck FORDÍTÓ Halasi Zoltán \nSZÖVEGKÖNYV Samudovszky Adrian I Sándor Dániel Máté ZENESZERZŐK Bánki Mihály I Sándor Zsigmond OPERATŐRÖK Varga Soma I Todoroff Lázár VIDEÓ (Processing; C++; OpenCV; Max; Vivago; Hedra) Fehér András LÁTVÁNYTERVEZŐ Simonyi-Lengyel Mira HANGMÉRNÖK Pellei Milán FÉNYTERVEZŐ\, VIDEO ARTIST Mohácsi Júlia PRODUKCIÓS MENEDZSER Márton Balázs \nRENDEZŐ Sándor Dániel Máté \nA BpSkizo Csoport produkciója.\nAz előadás a © Suhrkamp Verlag AG Berlin engedélyével\, a Hofra Kft. közvetítésével jött létre. Támogatók: Goethe Intézet; Osztrák Kulturális Fórum; Vates; BpSkizo Csoport \n16+\nAz előadás stroboszkópot\, füstöt\, vaksötétet és erős hanghatásokat tartalmaz. \nAz előadás hossza: 120 perc\, egy szünettel\nJegyár: 8900 Ft
URL:https://szentendreiteatrum.hu/event/fukuyama-utan-allapotdrama-bpskizo-csoport/
LOCATION:Hamvas Béla Pest Megyei Könyvtár színházterem\, Pátriárka utca 7.\, Szentendre\, Pest\, 2000\, Magyarország
CATEGORIES:Előadás,Fesztivál,Kiemelt,kortárs színdarab,Színház,TaFe
ATTACH;FMTTYPE=image/jpeg:https://szentendreiteatrum.hu/wp-content/uploads/2026/02/HONLAP.BORITO.FUK-U_18.2.4.jpg
GEO:47.6694699;19.074893
X-APPLE-STRUCTURED-LOCATION;VALUE=URI;X-ADDRESS=Hamvas Béla Pest Megyei Könyvtár színházterem Pátriárka utca 7. Szentendre Pest 2000 Magyarország;X-APPLE-RADIUS=500;X-TITLE=Pátriárka utca 7.:geo:19.074893,47.6694699
END:VEVENT
END:VCALENDAR