BEGIN:VCALENDAR
VERSION:2.0
PRODID:-//Szentendrei teátrum - ECPv6.15.14//NONSGML v1.0//EN
CALSCALE:GREGORIAN
METHOD:PUBLISH
X-ORIGINAL-URL:https://szentendreiteatrum.hu
X-WR-CALDESC:Események Szentendrei teátrum
REFRESH-INTERVAL;VALUE=DURATION:PT1H
X-Robots-Tag:noindex
X-PUBLISHED-TTL:PT1H
BEGIN:VTIMEZONE
TZID:UTC
BEGIN:STANDARD
TZOFFSETFROM:+0000
TZOFFSETTO:+0000
TZNAME:UTC
DTSTART:20250101T000000
END:STANDARD
END:VTIMEZONE
BEGIN:VEVENT
DTSTART;TZID=UTC:20260305T190000
DTEND;TZID=UTC:20260305T210000
DTSTAMP:20260426T030320
CREATED:20260214T132031Z
LAST-MODIFIED:20260220T112520Z
UID:10001215-1772737200-1772744400@szentendreiteatrum.hu
SUMMARY:A PADLÁS félig mese\, félig musical két részben 9-99 éves korig
DESCRIPTION:A darab egyetlen éjszaka alatt\, egy fővárosi padlástérben játszódik 1988-ban\, a kommunizmus utolsó éveiben. Itt él Rádiós\, a kibernetikus\, aki jelenleg szellemi szabadfoglalkozású\, mivel 1986-ban engedély nélkül próbált kapcsolatot teremteni idegen bolygókkal és földönkívüliekkel\, ezért elbocsájtották az állami központból. Szintén erre a padlásra érkezik meg a négy szellem\, Kölyök (az első\, aki szóvá merte tenni\, hogy a király meztelen)\, Herceg (oldalági Lombard herceg\, aki egy másik herceggel szemben elveszítette azt a fogadást\, melyikük ébreszti fel Csipkerózsikát)\, Lámpás (a nyolcadik törpe\, aki őrségben állt társai védelmében\, Hófehérke érkezése után azonban megfeledkeztek róla) és Meglökő (egy jólelkű hóhér\, aki az ártatlanul elítélt Kölyköt próbálta megvédeni\, de menekülés közben mindketten odavesztek). A négy bolyongó csupán véletlenül ragadt a Földön. Révészt keresik\, hogy átvigye őket az örökre szépek bolygójára. Időközben feltűnik Barrabás\, a bombaszakértő gengszter\, akit összetévesztenek a szellemek Révésszel\, továbbá Mamóka is felbukkan néha\, például egy tál szilvásgombóccal\, valamint a szomszédban élő Zeneakadémista\, Süni is betoppan\, hősiességével és bájával elvarázsolva a szellemeket\, bár a jó öreg padláson neki már régóta megvan ám a kiszemeltje… \nZENE ÉS SZÖVEG Presser Gábor I Sztevanovity Dusán I Horváth Péter\n\n\nSZEREPLŐK Rádiós\, aki egyszerűen fantasztikus: Dósa Mátyás I Süni\, fiatal lány\, aki hegedülni tanul: Henczi Emma I Mamóka\, aki mindent tud az emberekről: Zorgel Enikő I Barrabás\, B. Barrabás\, a gengszter: Bálint Ádám I Révész\, aki csak külsőleg azonos Barrabással: Bálint Ádám I Herceg\, finomlelkű szellem 560 éves: Krajnik-Balogh Gábor I Kölyök\, naiv szellem\, 530 éves: Molnár Gyöngyi I Lámpás\, a törpe\, zsörtölődő szellem: Janik László I Meglökő\, óriás szellem\, süketnéma: Palotai Zoltán I Témüller\, azelőtt házmester\, most önkéntes: Kékesi Gábor I Detektív\, aki még önmagát is kinyomozza: Pásztor Tibor I Üteg\, a detektív másik balkeze: Vincze Márton I Robinson\, a gép: Monori Dominik\n\n\nTOVÁBBI ALKOTÓK Rendezőasszisztens: Czipó Gabriella I Díszlet- és jelmeztervező: Michac Gábor I Koreográfus: Bakó Gábor I Zenei vezető: Nyitrai László\n\nRENDEZŐ Böhm György (Jászai-díjas)\n\nA Veres 1 Színház előadása.\n\nAz előadás hossza: 120 perc\, egy szünettel\nJegyár: 9900 Ft
URL:https://szentendreiteatrum.hu/event/a-padlas-felig-mese-felig-musical-ket-reszben-9-99-eves-korig/
LOCATION:Hamvas Béla Pest Megyei Könyvtár színházterem\, Pátriárka utca 7.\, Szentendre\, Pest\, 2000\, Magyarország
CATEGORIES:Előadás,Gyerek,Kiemelt,Könnyűzene,Színház,Zene
ATTACH;FMTTYPE=image/jpeg:https://szentendreiteatrum.hu/wp-content/uploads/2026/02/Padlas-jpg.jpg
GEO:47.6694699;19.074893
X-APPLE-STRUCTURED-LOCATION;VALUE=URI;X-ADDRESS=Hamvas Béla Pest Megyei Könyvtár színházterem Pátriárka utca 7. Szentendre Pest 2000 Magyarország;X-APPLE-RADIUS=500;X-TITLE=Pátriárka utca 7.:geo:19.074893,47.6694699
END:VEVENT
END:VCALENDAR