BEGIN:VCALENDAR
VERSION:2.0
PRODID:-//Szentendrei teátrum - ECPv6.15.14//NONSGML v1.0//EN
CALSCALE:GREGORIAN
METHOD:PUBLISH
X-WR-CALNAME:Szentendrei teátrum
X-ORIGINAL-URL:https://szentendreiteatrum.hu
X-WR-CALDESC:Események Szentendrei teátrum
REFRESH-INTERVAL;VALUE=DURATION:PT1H
X-Robots-Tag:noindex
X-PUBLISHED-TTL:PT1H
BEGIN:VTIMEZONE
TZID:UTC
BEGIN:STANDARD
TZOFFSETFROM:+0000
TZOFFSETTO:+0000
TZNAME:UTC
DTSTART:20250101T000000
END:STANDARD
END:VTIMEZONE
BEGIN:VEVENT
DTSTART;TZID=UTC:20260214T110000
DTEND;TZID=UTC:20260214T120000
DTSTAMP:20260425T234833
CREATED:20260108T123531Z
LAST-MODIFIED:20260108T123531Z
UID:10001213-1771066800-1771070400@szentendreiteatrum.hu
SUMMARY:GRYLLUS VILMOS: MASZKABÁL koncert
DESCRIPTION:Itt a farsang\, a báli szezon és ezért Gryllus Vilmost látjuk vendégül\, aki az alkalomhoz illően Maszkabál című albumával lép fel. \nGryllus Vilmos: Maszkabál\nBál\, bál\, maszkabál!\nMinden jelmez készen áll\,\nszól a nóta\, messze száll:\nÁll a bál\, áll a bál\,\náll a fényes maszkabál! \nBál\, bál\, maszkabál!\nTarka-barka sapka\, sál\,\nmálnaszörp és szalmaszál:\nÁll a bál\, áll a bál\,\náll a fényes maszkabál! \nBál\, bál\, maszkabál!\nJulcsi\, Panka\, Pista\, Pál\nkarja\, lába táncra áll:\nÁll a bál\, áll a bál\,\náll a fényes maszkabál!
URL:https://szentendreiteatrum.hu/event/gryllus-vilmos-maszkabal-koncert/
LOCATION:Hamvas Béla Pest Megyei Könyvtár színházterem\, Pátriárka utca 7.\, Szentendre\, Pest\, 2000\, Magyarország
CATEGORIES:Előadás,Gyerek,Gyerekprogram,Kiemelt,Zene,Zene, koncert
ATTACH;FMTTYPE=image/jpeg:https://szentendreiteatrum.hu/wp-content/uploads/2026/01/Maszkabal.jpg
GEO:47.6694699;19.074893
X-APPLE-STRUCTURED-LOCATION;VALUE=URI;X-ADDRESS=Hamvas Béla Pest Megyei Könyvtár színházterem Pátriárka utca 7. Szentendre Pest 2000 Magyarország;X-APPLE-RADIUS=500;X-TITLE=Pátriárka utca 7.:geo:19.074893,47.6694699
END:VEVENT
BEGIN:VEVENT
DTSTART;TZID=UTC:20260214T150000
DTEND;TZID=UTC:20260214T160000
DTSTAMP:20260425T234833
CREATED:20260108T123932Z
LAST-MODIFIED:20260108T123932Z
UID:10001214-1771081200-1771084800@szentendreiteatrum.hu
SUMMARY:GRYLLUS VILMOS: MASZKABÁL koncert
DESCRIPTION:Itt a farsang\, a báli szezon és ezért Gryllus Vilmost látjuk vendégül\, aki az alkalomhoz illően Maszkabál című albumával lép fel. \nGryllus Vilmos: Maszkabál\nBál\, bál\, maszkabál!\nMinden jelmez készen áll\,\nszól a nóta\, messze száll:\nÁll a bál\, áll a bál\,\náll a fényes maszkabál! \nBál\, bál\, maszkabál!\nTarka-barka sapka\, sál\,\nmálnaszörp és szalmaszál:\nÁll a bál\, áll a bál\,\náll a fényes maszkabál! \nBál\, bál\, maszkabál!\nJulcsi\, Panka\, Pista\, Pál\nkarja\, lába táncra áll:\nÁll a bál\, áll a bál\,\náll a fényes maszkabál!
URL:https://szentendreiteatrum.hu/event/gryllus-vilmos-maszkabal-koncert-2/
LOCATION:Hamvas Béla Pest Megyei Könyvtár színházterem\, Pátriárka utca 7.\, Szentendre\, Pest\, 2000\, Magyarország
CATEGORIES:Előadás,Gyerek,Gyerekprogram,Kiemelt,Zene,Zene, koncert
ATTACH;FMTTYPE=image/jpeg:https://szentendreiteatrum.hu/wp-content/uploads/2026/01/Maszkabal.jpg
GEO:47.6694699;19.074893
X-APPLE-STRUCTURED-LOCATION;VALUE=URI;X-ADDRESS=Hamvas Béla Pest Megyei Könyvtár színházterem Pátriárka utca 7. Szentendre Pest 2000 Magyarország;X-APPLE-RADIUS=500;X-TITLE=Pátriárka utca 7.:geo:19.074893,47.6694699
END:VEVENT
END:VCALENDAR