BEGIN:VCALENDAR
VERSION:2.0
PRODID:-//Szentendrei teátrum - ECPv6.15.14//NONSGML v1.0//EN
CALSCALE:GREGORIAN
METHOD:PUBLISH
X-WR-CALNAME:Szentendrei teátrum
X-ORIGINAL-URL:https://szentendreiteatrum.hu
X-WR-CALDESC:Események Szentendrei teátrum
REFRESH-INTERVAL;VALUE=DURATION:PT1H
X-Robots-Tag:noindex
X-PUBLISHED-TTL:PT1H
BEGIN:VTIMEZONE
TZID:UTC
BEGIN:STANDARD
TZOFFSETFROM:+0000
TZOFFSETTO:+0000
TZNAME:UTC
DTSTART:20250101T000000
END:STANDARD
END:VTIMEZONE
BEGIN:VEVENT
DTSTART;TZID=UTC:20260201T170000
DTEND;TZID=UTC:20260201T183000
DTSTAMP:20260426T032305
CREATED:20251230T140201Z
LAST-MODIFIED:20260125T003822Z
UID:10001021-1769965200-1769970600@szentendreiteatrum.hu
SUMMARY:AKIK MÁR NEM LESZÜNK SOSEM monodráma Krusovszky Dénes regényéből\, Barna Zsombor előadásában
DESCRIPTION:Mi történik\, ha valaki már csak egy gép segítségével lélegezhet – de közben élete történetét mindennél fontosabbnak érzi elmondani? Mivé válik az emberi emlékezet egy kórházi ágyhoz láncolva\, és hogyan hallgatja meg valaki más\, aki szintén nem tud szabadulni a saját múltja elől? \nEgy ápoló\, egy fiatal férfi. A rutinja pontos\, a mozdulatai precízek\, de valami mégis megmozdul benne\, amikor Aszalós Ferenc\, a vastüdőbe zárt idős beteg egy váratlan kéréssel fordul hozzá. Egy magnót kér – nem zenét hallgatni\, hanem vallani. Rögzíteni valamit\, amit eddig nem lehetett kimondani. Egy múltat? Egy bűnt? Egy sorsot? \nLente Bálint\, az ápoló unokaöccse már csak a kazettákat találja meg az elhagyatott tüdőszanatórium épületében évtizedekkel később. Azonban ő úgy dönt\, nemcsak hallgatója lesz a történetnek. Nyomozni kezd\, megpróbálja feltárni az elfojtott traumák rendszerét\, a bűntudat\, a felelősség\, a hallgatás és beszéd közti bonyolult viszonyokat. Azonban egyre több kérdés merül fel – és egyre kevesebb az egyértelmű válasz. \nEz az előadás kettős utazás: a dokumentált múlt megidézése\, a másik pedig velünk és Lente Bálinttal\, az újraértelmezés kockázatában történik\, itt és most. Miközben a múlt és jelen egymásba csúsznak\, valami talán rólunk is elárulódik. Hogy mindannyian egy kicsit Bálintok vagyunk. Keresők. Hallgatók. Tanúk. \nELŐADJA: Barna Zsombor\nRENDEZŐ: Dékány Barnabás\nLátvány: Ottlik Julianna I Színpadi adaptáció: Macsuka Patrik I Zene: Eklics Dániel  \n16 éven felülieknek ajánlott. \nAz előadás a Budapest Bábszínház és az Orlai Produkciós Iroda együttműködésével jött létre. \nHossza: 90 perc\, szünet nélkül\nJegyár: 4900 Ft \n\n		\n		\n			\n				\n			\n			\n				\n			\n			\n				\n			\n			\n				\n			\n			\n				\n			\n			\n				\n			\n			\n				\n			\n			\n		\n\n 
URL:https://szentendreiteatrum.hu/event/akik-mar-nem-leszunk-sosem-monodrama-krusovszky-denes-regenyebol-barna-zsombor-eloadasaban/
LOCATION:Dunaparti Művelődési Ház – Barlang\, Duna korzó 18.\, Szentendre
CATEGORIES:Előadás,Kiemelt,kortárs színdarab,Monodráma,Színház
ATTACH;FMTTYPE=image/jpeg:https://szentendreiteatrum.hu/wp-content/uploads/2025/12/Akik-mar-nem-leszunk-fofoto.jpg
GEO:47.6656532;19.0779925
X-APPLE-STRUCTURED-LOCATION;VALUE=URI;X-ADDRESS=Dunaparti Művelődési Ház – Barlang Duna korzó 18. Szentendre;X-APPLE-RADIUS=500;X-TITLE=Duna korzó 18.:geo:19.0779925,47.6656532
END:VEVENT
END:VCALENDAR