BEGIN:VCALENDAR
VERSION:2.0
PRODID:-//Szentendrei teátrum - ECPv6.15.14//NONSGML v1.0//EN
CALSCALE:GREGORIAN
METHOD:PUBLISH
X-ORIGINAL-URL:https://szentendreiteatrum.hu
X-WR-CALDESC:Események Szentendrei teátrum
REFRESH-INTERVAL;VALUE=DURATION:PT1H
X-Robots-Tag:noindex
X-PUBLISHED-TTL:PT1H
BEGIN:VTIMEZONE
TZID:UTC
BEGIN:STANDARD
TZOFFSETFROM:+0000
TZOFFSETTO:+0000
TZNAME:UTC
DTSTART:20250101T000000
END:STANDARD
END:VTIMEZONE
BEGIN:VEVENT
DTSTART;TZID=UTC:20260113T190000
DTEND;TZID=UTC:20260113T195000
DTSTAMP:20260426T040939
CREATED:20251209T212608Z
LAST-MODIFIED:20251209T212925Z
UID:10001019-1768330800-1768333800@szentendreiteatrum.hu
SUMMARY:NE MOST\, DRÁGÁM! bohózat két részben
DESCRIPTION:Lehet\, hogy a görcsös férfivágyak\, de az is lehet\, hogy a női könnyűvérűség szimbóluma a nercbunda\, de az biztos\, hogy ahol nercbunda van\, ott valaki nagyon akar valamit\, és történetesen általában ugyanazt. John Chapman és Ray Cooney azonban nem hagyja hőseit egykönnyen győzni\, így a szimpla szerelmi háromszögnek indult sztori gyorsan csaknem tucatnyi egymásba fonódó „ki-kivel?”-jellegű gordiuszi csomóvá alakul\, lehetetlenebbnél lehetetlenebb helyzetekbe sodorva a kis szőrmeszalon szüntelen hantázó tulajdonosait. \nSűrűsödő időközökben jelennek meg házasságtörő férjek és feleségek\, megsokszorozódnak a hölgyekről le és felkerülő különböző ruhadarabok. A negyedik emeleti szőrmeszalon ablakából a legváltozatosabb öltözékek és használati tárgyak röpködnek. Szállnak a bundák… \nA történet valami nagyon jellemzőt mutat meg a tesztoszteron agyra gyakorolt hatásáról: amikor a férfiban csak a „szent cél” marad\, mint éltető erő\, amely mindent megbolygat maga körül. A szerzők elfogulatlanságára utal\, hogy női hőseik sem „gondolkoznak” ennél sokkal bonyolultabban\, csak míg az ő vágyaik már jórészt tárgyiasultak\, addig a teremtés koronája még mindig a természetben keresi a pillanatnyi eufória élményét. \nSzereposztás:\nGilbert Bodley – NAGY SÁNDOR\nArnold Crouch – CSONKA ANDRÁS\nJanie McMichael – FÉSŰS NELLY / CSÁKI EDINA\nMiss Tipdale – ZORGEL ENIKŐ\nMaude Bodley – MOLNÁR GYÖNGYI\nHarry McMichael – PUSZTASZERI KORNÉL\nSue Lawson – CSÁKI EDINA / HOLCZINGER SZANDRA\nMrs. Frencham – FEJES SZANDRA / MIKLÓS KRISZTA\nFrencham fregattkapitány – VENYIGE SÁNDOR\nMr. Lawson – JANIK LÁSZLÓ\nMiss Whittington – HENCZI EMMA / GÉCZI OLÍVIA \nDíszlettervező: BÁTONYI GYÖRGY\nJelmeztervező: MOLNÁR SZILVIA\nRendező: VENYIGE SÁNDOR \nA Veres 1 Színház előadása. \nAz előadás hossza: 110 perc\, 1 szünettel\nJegyár: 9800 Ft
URL:https://szentendreiteatrum.hu/event/ne-most-dragam-bohozat-ket-reszben/
LOCATION:Hamvas Béla Pest Megyei Könyvtár színházterem\, Pátriárka utca 7.\, Szentendre\, Pest\, 2000\, Magyarország
CATEGORIES:Előadás,Színház,Vígjáték
ATTACH;FMTTYPE=image/jpeg:https://szentendreiteatrum.hu/wp-content/uploads/2025/12/Ne-most-dragam-1.jpg
GEO:47.6694699;19.074893
X-APPLE-STRUCTURED-LOCATION;VALUE=URI;X-ADDRESS=Hamvas Béla Pest Megyei Könyvtár színházterem Pátriárka utca 7. Szentendre Pest 2000 Magyarország;X-APPLE-RADIUS=500;X-TITLE=Pátriárka utca 7.:geo:19.074893,47.6694699
END:VEVENT
BEGIN:VEVENT
DTSTART;TZID=UTC:20260118T190000
DTEND;TZID=UTC:20260118T213000
DTSTAMP:20260426T040939
CREATED:20251209T215637Z
LAST-MODIFIED:20251210T084303Z
UID:10001020-1768762800-1768771800@szentendreiteatrum.hu
SUMMARY:AMERIKAI KOMÉDIA szving-musical
DESCRIPTION:New Yorkban vagyunk\, 1938-ban\, a La Paz nevű luxushajó fedélzetén. Egy munkamániás\, besavanyodott ifjú üzletasszony és egy sármőr kalandor viharos találkozásának lehetünk tanúi. A Monte Carlóba tartó tengeri úton különös figurák népesítik be a fedélzetet. Megjelenik például Tony vőlegénye\, a degenerált pénzarisztokrata\, egy brutális feleség és az asszony terrorja alatt szenvedő rémült kis férfi\, a tétova titkár\, akinek kétszer is egy tibeti hangtál változtatja meg az életét\, vagy épp Tony fékezhetetlen életkedvű anyja\, aki legalább tíz évvel szeretne fiatalabbnak látszani a saját lányánál.\nMindenki menekül valami elől\, vagy valaki után. Nagy pénzek forognak kockán\, és aki csak teheti\, labdázik a másik szívével. Mindeközben pedig a luxushajón tombol a szving\, a dzsessztörténet máig élő\, legfényesebb korszakának vérpezsdítő muzsikája. \nAz egykori sikerelőadás 2025-től a Veres 1 Színház repertoárján éled újra.\nA harmincas évek nagy sikerű színpadi szerzője\, Aszlányi Károly azonos című komédiája alapján a librettót és a dalszövegeket Lőrinczy Attila írta\, a zenéről pedig ki más\, mint Bársony Bálint\, Artisjus- és Fonogram díjas komponista és szaxofonművész gondoskodott.\nAz Amerikai komédia elejétől a végéig humorban gazdag történet\, amit ez alkalommal Peller Károly rendezett újra. \nSZEREPLŐK:\nTony Roe – JANZA KATA / HORVÁTH MÓNIKA\nFrank Anderson – SIMON KORNÉL\nAlbert Morning – BÁLINT ÁDÁM\nAlphonse Sapault – HARNA PÉTER\nEdith Sapault – SIMÉNFALVY ÁGOTA / FALUSI MARIANN\nMrs. Irene Roe – ZORGEL ENIKŐ\nPershing – OLÁH BÉLA / KÁROLYI KRISZTIÁN\nWhitman\, riporter – PALOTAI ZOLTÁN \nTánckar: Géczi Olívia\, Kalmár Botond\, Maros-Szabó Réka\, Nagy Róbert\, Pálinkás Balázs\, Szeretva Renáta \nAszlányi Károly azonos című színdarabja alapján.\nZene: Bársony Bálint\nDalszöveg: Lőrinczy Attila \nDíszlettervező: Széll Tímea\nJelmeztervező: Böhm Katalin\nZenei vezető: Vecsei László\nKoreográfus-asszisztens: Papp Éva\nKoreográfus: Vári Bertalan\nRendezőasszisztens: Páli Veronika\nRendező: PELLER KÁROLY \nA Veres 1 Színház előadása. \nAz előadás hossza: 120 perc\, egy szünettel\nJegyár: 9800 Ft
URL:https://szentendreiteatrum.hu/event/amerikai-komedia-szving-musical/
LOCATION:Hamvas Béla Pest Megyei Könyvtár színházterem\, Pátriárka utca 7.\, Szentendre\, Pest\, 2000\, Magyarország
CATEGORIES:Előadás,Kiemelt,Színház,Vígjáték,Zene
ATTACH;FMTTYPE=image/jpeg:https://szentendreiteatrum.hu/wp-content/uploads/2025/12/Amerikai-1.jpg
GEO:47.6694699;19.074893
X-APPLE-STRUCTURED-LOCATION;VALUE=URI;X-ADDRESS=Hamvas Béla Pest Megyei Könyvtár színházterem Pátriárka utca 7. Szentendre Pest 2000 Magyarország;X-APPLE-RADIUS=500;X-TITLE=Pátriárka utca 7.:geo:19.074893,47.6694699
END:VEVENT
END:VCALENDAR