BEGIN:VCALENDAR
VERSION:2.0
PRODID:-//Szentendrei teátrum - ECPv6.15.14//NONSGML v1.0//EN
CALSCALE:GREGORIAN
METHOD:PUBLISH
X-ORIGINAL-URL:https://szentendreiteatrum.hu
X-WR-CALDESC:Események Szentendrei teátrum
REFRESH-INTERVAL;VALUE=DURATION:PT1H
X-Robots-Tag:noindex
X-PUBLISHED-TTL:PT1H
BEGIN:VTIMEZONE
TZID:UTC
BEGIN:STANDARD
TZOFFSETFROM:+0000
TZOFFSETTO:+0000
TZNAME:UTC
DTSTART:20240101T000000
END:STANDARD
END:VTIMEZONE
BEGIN:VEVENT
DTSTART;TZID=UTC:20251221T190000
DTEND;TZID=UTC:20251221T213000
DTSTAMP:20260426T031343
CREATED:20251126T201556Z
LAST-MODIFIED:20251220T121334Z
UID:10001212-1766343600-1766352600@szentendreiteatrum.hu
SUMMARY:KALMUS FELICIÁN A TÉL MESÉJE csellókoncert - vendég: FISCHL MÓNIKA
DESCRIPTION:varázslatos ünnepi cselló koncert\nSztárvendég: FISCHL MÓNIKA\n\nA hosszú és hideg téli éjszakák évezredek óta arra késztetik az embereket\, hogy ünnepekben\, együtt töltött időben\, meseszerű hagyományokban idézzék meg a fényt az életükbe. Már az ünnepvárás során apró kis gyertyákat gyújtunk\, az otthonunkat és a szívünket is díszbe öltöztetjük. Így egészül ki a tél ezer csodája\, jeges ragyogása fahéj és fenyőillattal\, szeretettel\, nevetéssel\, emlékezéssel\, és persze felhőtlen jókedvvel az év utolsó hónapjában. Egész évben várjuk ezt a mesés időszakát az évnek\, amikor pedig eljön minden percét igyekszünk megélni\, minél erősebben érezni ennek a pár napnak a csodáját.\n\nEzt a hangulatot\, a téli ünnepek sokszínűségét és a tél szépségét szeretné Felicián megidézni ezen a koncerten. Előveszi a legszebb karácsonyi feldolgozásait\, hogy velünk lehessen a karácsony varázsa\, de lop a repertoárba egy kis vidámságot\, és a cselló lágy hangjával klasszikus ívekben festi meg a téli panorámát. Egy biztos\, ezen az estén a tél a legszebb arcát mutatja majd\, hogy a tél meséje jó mélyen a szívünkbe íródjon. Múlt és jelen műfajok és stílusok\, olyan harmóniában fonódnak egybe Felicián játékában\, hogy az egész este tartó varázslat még hosszú ideig elkíséri majd hallgatóját.\n\nAz előadás hossza: kb. 90 perc\nJegyár: 7900 Ft\n\n \n\n\n\n\n		\n		\n			\n				\n			\n				\n				Kalmus Felicián \n				\n			\n				\n			\n				\n				Fischl Mónika\n				\n			\n				\n			\n				\n				Kalmus Felicián
URL:https://szentendreiteatrum.hu/event/kalmus-felician-a-tel-meseje-csellokoncert-vendeg-fischl-monika/
LOCATION:Hamvas Béla Pest Megyei Könyvtár színházterem\, Pátriárka utca 7.\, Szentendre\, Pest\, 2000\, Magyarország
CATEGORIES:Előadás,Kiemelt,Zene,Zene, koncert
ATTACH;FMTTYPE=image/png:https://szentendreiteatrum.hu/wp-content/uploads/2025/11/Feli-es-Moncsi.png
GEO:47.6694699;19.074893
X-APPLE-STRUCTURED-LOCATION;VALUE=URI;X-ADDRESS=Hamvas Béla Pest Megyei Könyvtár színházterem Pátriárka utca 7. Szentendre Pest 2000 Magyarország;X-APPLE-RADIUS=500;X-TITLE=Pátriárka utca 7.:geo:19.074893,47.6694699
END:VEVENT
END:VCALENDAR