BEGIN:VCALENDAR
VERSION:2.0
PRODID:-//Szentendrei teátrum - ECPv6.15.14//NONSGML v1.0//EN
CALSCALE:GREGORIAN
METHOD:PUBLISH
X-WR-CALNAME:Szentendrei teátrum
X-ORIGINAL-URL:https://szentendreiteatrum.hu
X-WR-CALDESC:Események Szentendrei teátrum
REFRESH-INTERVAL;VALUE=DURATION:PT1H
X-Robots-Tag:noindex
X-PUBLISHED-TTL:PT1H
BEGIN:VTIMEZONE
TZID:UTC
BEGIN:STANDARD
TZOFFSETFROM:+0000
TZOFFSETTO:+0000
TZNAME:UTC
DTSTART:20240101T000000
END:STANDARD
END:VTIMEZONE
BEGIN:VEVENT
DTSTART;TZID=UTC:20251107T190000
DTEND;TZID=UTC:20251107T220000
DTSTAMP:20260426T021634
CREATED:20250916T192850Z
LAST-MODIFIED:20251104T134850Z
UID:10001197-1762542000-1762552800@szentendreiteatrum.hu
SUMMARY:A NAGYMAMA zenés játék két részben
DESCRIPTION:Csiky Gergely – Kardos G.György-Fényes Szabolcs \n  \nA nagymamazenés játék két részben \nTartalomCsiky Gergely A nagymama című alkotása finom humorban\,fordulatokban és érzelemben gazdag mű\, mely már az első bemutatójánnagy sikert aratott. A fiatalember\, aki olasztanárnak jelentkezik aleánynevelő intézetbe\, szerény viselkedésével és helyes pedagógiaielveivel elnyeri az intézet nevelőinek bizalmát. Csak Tódorka Szilárdtanár úr tudja\, hogy ez a fiatalember… „báránybőrbe bújt farkas”\, s nemmás\, mint az ifjú Szerémi gróf\, aki az egyik növendék miatt vállalkozotterre a kalandra. Tódorka Szilárd\, a régi nevelője ajánlotta be azintézetbe\, mert nem tud semmit megtagadni volt tanítványától. Mostazonban elhatározza\, hogy mindent bevall Szerémi grófnénak\, afiatalember nagymamájának. A Nagymama meglátogatja az intézetet\,hogy megismerhesse az új „olasztanárt”. Négyszemközt kivallatjaunokáját\, hogy ki miatt „tanárkodik” itt. A Nagymama segíteni akarja aszerelmeseket\, mert visszagondol saját szomorú történetére. Őtelválasztották szerelmesétől és boldogtalan volt egész életében. Devajon sikerül-e a Nagymamának\, hogy a fiatalok egymáséi legyenek\, kitudja-e bogozni a múltbéli igen összekuszált családi bonyodalmakat\, ki-kire talál rá\, s kivel lesz boldog: erről mesél a darab.\n\nFőbb szerepekbenSzerémi grófné: Kállay BoriErnő\, unokája: Kovács SzilárdÖrkényi Vilmos\, nyugalmazott ezredes: Faragó AndrásKálmán: Barkóczi SándorPiroska: Pacskó DorkaTímár Karolin\, nőnevelő intézet tulajdonosa: Vörös EditMárta: Haraszti ElviraTódorka Szilárd\, tanár az intézetben: Kiss ZoltánLangó Szerafina\, nevelőnő az intézetben: Teremi TrixiKoszta Sámuel\, tábori lelkész: Szirtes GáborGalambosné: Halász ArankaAranka: Csápenszki NikolettKrisztina: Unger VandaPincér: Hábel FerencLányok\, intézeti növendékek\n\nJelmez: Vesztergombi AnikóDíszlet: Perlaki Róbert\n\nKoreográfus: Hevesi AnnaZenei vezető: Rátonyi RóbertRendező: Moravetz Levente
URL:https://szentendreiteatrum.hu/event/a-nagymama-zenes-jatek-ket-reszben/
LOCATION:Hamvas Béla Pest Megyei Könyvtár színházterem\, Pátriárka utca 7.\, Szentendre\, Pest\, 2000\, Magyarország
CATEGORIES:Előadás,Kiemelt,Zene
ATTACH;FMTTYPE=image/jpeg:https://szentendreiteatrum.hu/wp-content/uploads/2025/09/20250516_112453_SCS_0130--scaled.jpg
GEO:47.6694699;19.074893
X-APPLE-STRUCTURED-LOCATION;VALUE=URI;X-ADDRESS=Hamvas Béla Pest Megyei Könyvtár színházterem Pátriárka utca 7. Szentendre Pest 2000 Magyarország;X-APPLE-RADIUS=500;X-TITLE=Pátriárka utca 7.:geo:19.074893,47.6694699
END:VEVENT
BEGIN:VEVENT
DTSTART;TZID=UTC:20251108T150000
DTEND;TZID=UTC:20251108T170000
DTSTAMP:20260426T021634
CREATED:20250929T124741Z
LAST-MODIFIED:20250929T125240Z
UID:10001200-1762614000-1762621200@szentendreiteatrum.hu
SUMMARY:GYALOGCSILLAG zenés mesejáték
DESCRIPTION:A lyukas hordó\, a törött létra és a fogatlan gereblye a szemétdombra kerülve fellázad és elmenekül\, de ezzel végül a Fecskefiút és a Rózsalányt is megmentik. CSUKÁS ISTVÁN színműve humorral\, játékosan tanítja és szórakoztatja a gyerekeket\, de persze szüleiket is\, hiszen a mese egy szimbolikus történet\, amely általános emberi problémákat és lehetséges megoldásokat fogalmaz meg. \nAz előadás a Madách Színházban első rendezése Vaszilenko Eugeniának\, aki több mint 10 éve Szirtes Tamás munkatársa a világsikerű musicalek színrevitelében. Pályáját a színházban táncművészként kezdte\, mára széleskörű tapasztalattal bír a zenés színpadi művek alkotói folyamatában. Gulyás Levente zeneszerző új szerzeményei teszik a darabot olyan zenés művé\, amely illik a teátrum repertoárjához. Jelmeztervezőként Horányi Juli\, díszlettervezőként pedig Vízvárdi András neve garancia arra\, hogy az előadás a közönség legújabb kedvence legyen. \nSZEREPOSZTÁS Fecskefiú: Kerényi Miklós Máté I Rózsalány: Békefi Viktória I Gereblye: Sándor Dávid I Hordó: Weil Róbert I Létra: Molnár Gyöngyi I Gazda: Baksa András I Mostoha: Wégner Judit I Dögönye\, káposztasavanyító: Mező Zoltán I Vaskó\, vándorköszörűs: Németh Gábor I Édesdinnye király: Barát Attila I Savanyú uborka király: Miskovics Róbert I Keserű kecskeszőr király: Ruzicska László \nALKOTÓK Díszlettervező: Vízvárdi András I Jelmeztervező: Horányi Juli I Zene: Gulyás Levente I Koreográfus: György László I Világítástervező: Gábor Márk I Szcenikus: Szőcs Gábor I A szövegkönyvet szerkesztette: Kósa Melinda I Korrepetítor: Felszegi Dalma I Rendezőasszisztens: Kutschera Éva I Rendező: Vaszilenko Eugenia \nA mű bemutatása Csukás István örököseinek engedélyével történt. \nAz előadás hossza: kb. 120 perc \nJegyár: 4900 Ft
URL:https://szentendreiteatrum.hu/event/gyalogcsillag-zenes-mesejatek/
LOCATION:Hamvas Béla Pest Megyei Könyvtár színházterem\, Pátriárka utca 7.\, Szentendre\, Pest\, 2000\, Magyarország
CATEGORIES:Előadás,Gyerek,Gyerekprogram,Kiemelt,kortárs színdarab,Színház
ATTACH;FMTTYPE=image/jpeg:https://szentendreiteatrum.hu/wp-content/uploads/2025/09/Gyalogcsillag.jpg
GEO:47.6694699;19.074893
X-APPLE-STRUCTURED-LOCATION;VALUE=URI;X-ADDRESS=Hamvas Béla Pest Megyei Könyvtár színházterem Pátriárka utca 7. Szentendre Pest 2000 Magyarország;X-APPLE-RADIUS=500;X-TITLE=Pátriárka utca 7.:geo:19.074893,47.6694699
END:VEVENT
END:VCALENDAR