BEGIN:VCALENDAR
VERSION:2.0
PRODID:-//Szentendrei teátrum - ECPv6.15.14//NONSGML v1.0//EN
CALSCALE:GREGORIAN
METHOD:PUBLISH
X-WR-CALNAME:Szentendrei teátrum
X-ORIGINAL-URL:https://szentendreiteatrum.hu
X-WR-CALDESC:Események Szentendrei teátrum
REFRESH-INTERVAL;VALUE=DURATION:PT1H
X-Robots-Tag:noindex
X-PUBLISHED-TTL:PT1H
BEGIN:VTIMEZONE
TZID:UTC
BEGIN:STANDARD
TZOFFSETFROM:+0000
TZOFFSETTO:+0000
TZNAME:UTC
DTSTART:20250101T000000
END:STANDARD
END:VTIMEZONE
BEGIN:VEVENT
DTSTART;TZID=UTC:20260305T190000
DTEND;TZID=UTC:20260305T210000
DTSTAMP:20260425T214815
CREATED:20260214T132031Z
LAST-MODIFIED:20260220T112520Z
UID:10001215-1772737200-1772744400@szentendreiteatrum.hu
SUMMARY:A PADLÁS félig mese\, félig musical két részben 9-99 éves korig
DESCRIPTION:A darab egyetlen éjszaka alatt\, egy fővárosi padlástérben játszódik 1988-ban\, a kommunizmus utolsó éveiben. Itt él Rádiós\, a kibernetikus\, aki jelenleg szellemi szabadfoglalkozású\, mivel 1986-ban engedély nélkül próbált kapcsolatot teremteni idegen bolygókkal és földönkívüliekkel\, ezért elbocsájtották az állami központból. Szintén erre a padlásra érkezik meg a négy szellem\, Kölyök (az első\, aki szóvá merte tenni\, hogy a király meztelen)\, Herceg (oldalági Lombard herceg\, aki egy másik herceggel szemben elveszítette azt a fogadást\, melyikük ébreszti fel Csipkerózsikát)\, Lámpás (a nyolcadik törpe\, aki őrségben állt társai védelmében\, Hófehérke érkezése után azonban megfeledkeztek róla) és Meglökő (egy jólelkű hóhér\, aki az ártatlanul elítélt Kölyköt próbálta megvédeni\, de menekülés közben mindketten odavesztek). A négy bolyongó csupán véletlenül ragadt a Földön. Révészt keresik\, hogy átvigye őket az örökre szépek bolygójára. Időközben feltűnik Barrabás\, a bombaszakértő gengszter\, akit összetévesztenek a szellemek Révésszel\, továbbá Mamóka is felbukkan néha\, például egy tál szilvásgombóccal\, valamint a szomszédban élő Zeneakadémista\, Süni is betoppan\, hősiességével és bájával elvarázsolva a szellemeket\, bár a jó öreg padláson neki már régóta megvan ám a kiszemeltje… \nZENE ÉS SZÖVEG Presser Gábor I Sztevanovity Dusán I Horváth Péter\n\n\nSZEREPLŐK Rádiós\, aki egyszerűen fantasztikus: Dósa Mátyás I Süni\, fiatal lány\, aki hegedülni tanul: Henczi Emma I Mamóka\, aki mindent tud az emberekről: Zorgel Enikő I Barrabás\, B. Barrabás\, a gengszter: Bálint Ádám I Révész\, aki csak külsőleg azonos Barrabással: Bálint Ádám I Herceg\, finomlelkű szellem 560 éves: Krajnik-Balogh Gábor I Kölyök\, naiv szellem\, 530 éves: Molnár Gyöngyi I Lámpás\, a törpe\, zsörtölődő szellem: Janik László I Meglökő\, óriás szellem\, süketnéma: Palotai Zoltán I Témüller\, azelőtt házmester\, most önkéntes: Kékesi Gábor I Detektív\, aki még önmagát is kinyomozza: Pásztor Tibor I Üteg\, a detektív másik balkeze: Vincze Márton I Robinson\, a gép: Monori Dominik\n\n\nTOVÁBBI ALKOTÓK Rendezőasszisztens: Czipó Gabriella I Díszlet- és jelmeztervező: Michac Gábor I Koreográfus: Bakó Gábor I Zenei vezető: Nyitrai László\n\nRENDEZŐ Böhm György (Jászai-díjas)\n\nA Veres 1 Színház előadása.\n\nAz előadás hossza: 120 perc\, egy szünettel\nJegyár: 9900 Ft
URL:https://szentendreiteatrum.hu/event/a-padlas-felig-mese-felig-musical-ket-reszben-9-99-eves-korig/
LOCATION:Hamvas Béla Pest Megyei Könyvtár színházterem\, Pátriárka utca 7.\, Szentendre\, Pest\, 2000\, Magyarország
CATEGORIES:Előadás,Gyerek,Kiemelt,Könnyűzene,Színház,Zene
ATTACH;FMTTYPE=image/jpeg:https://szentendreiteatrum.hu/wp-content/uploads/2026/02/Padlas-jpg.jpg
GEO:47.6694699;19.074893
X-APPLE-STRUCTURED-LOCATION;VALUE=URI;X-ADDRESS=Hamvas Béla Pest Megyei Könyvtár színházterem Pátriárka utca 7. Szentendre Pest 2000 Magyarország;X-APPLE-RADIUS=500;X-TITLE=Pátriárka utca 7.:geo:19.074893,47.6694699
END:VEVENT
BEGIN:VEVENT
DTSTART;TZID=UTC:20260316T190000
DTEND;TZID=UTC:20260316T203000
DTSTAMP:20260425T214815
CREATED:20260220T111846Z
LAST-MODIFIED:20260310T074658Z
UID:10001219-1773687600-1773693000@szentendreiteatrum.hu
SUMMARY:PISZKOS FRED\, A FELOLVASÓ Kern András és Nyáry Krisztián Rejtő Jenő estje
DESCRIPTION:1942 őszén\, a vészkorszak küszöbén két úr üldögél a Japán Kávéház teraszán. Egy leleplező újságcikket olvasnak\, amely szerint a Piszkos Fred regények szerzője\, Mr. P. Howard valódi neve Rejtő\, sőt\, Reich: ő a nagy terézvárosi ponyvakirály\, akinek már réges-rég munkaszolgálaton lenne a helye\, nem pedig a Nagykörúton. \nMintha mindketten ismernék a titokzatos szerzőt. Egyikük talán túlságosan is jól… Vajon melyikük tudja az igazságot légiós kalandokról\, kocsmai pofonokról\, romantikus szerelmekről és kézirattal fizetett kávéházi számlákról? \nKern András és Nyáry Krisztián közös nyomozása során legendák és tények versengenek\, regényrészletek feleselnek dokumentumokkal\, a zenei aláfestésről pedig tangóharmonika gondoskodik. Az est egyszerre rekeszizmot és szívet próbáló időutazás a bölcs ponyvaregényektől a történelem abszurd sötétségéig. \nELŐADJÁK Kern András I Nyáry Krisztián I Berec Péter \nA Sonatina Művészeti Ügynökség produkciója. \nAz előadás hossza: 90 perc\nJegyár: 8900 Ft \n  \n 
URL:https://szentendreiteatrum.hu/event/piszkos-fred-a-felolvaso-kern-andras-es-nyary-krisztian-rejto-jeno-estje-kozremukodik-berec-peter-harmonikan/
LOCATION:Hamvas Béla Pest Megyei Könyvtár színházterem\, Pátriárka utca 7.\, Szentendre\, Pest\, 2000\, Magyarország
CATEGORIES:Előadás,Fesztivál,Irodalom,Kiemelt,Színház,TaFe
ATTACH;FMTTYPE=image/jpeg:https://szentendreiteatrum.hu/wp-content/uploads/2026/02/Piszkos-Fred-cover.jpg
GEO:47.6694699;19.074893
X-APPLE-STRUCTURED-LOCATION;VALUE=URI;X-ADDRESS=Hamvas Béla Pest Megyei Könyvtár színházterem Pátriárka utca 7. Szentendre Pest 2000 Magyarország;X-APPLE-RADIUS=500;X-TITLE=Pátriárka utca 7.:geo:19.074893,47.6694699
END:VEVENT
BEGIN:VEVENT
DTSTART;TZID=UTC:20260317T193000
DTEND;TZID=UTC:20260317T210000
DTSTAMP:20260425T214815
CREATED:20260218T230534Z
LAST-MODIFIED:20260310T141227Z
UID:10001217-1773775800-1773781200@szentendreiteatrum.hu
SUMMARY:BORBÉLY MŰHELY JAZZKLUB\, VENDÉG: IFJ. SÁRKÖZY LAJOS HEGEDŰMŰVÉSZ
DESCRIPTION:JEGYEK ITT \nA Barlang közönsége az elmúlt két évtizedben megszokhatta: ősztől nyárig minden hónapban a Barlang legrégebb óta működő klubjában várjuk a jazzkedvelő közönséget. Márciusban ifj. Sárközy Lajos\, a 7 generációs muzsikuscsaládból jövő hegedűművész lesz a jazzklub vendége. \nBorbély Mihály – fúvós hangszerekTálas Áron – zongoraHorváth Balázs – bőgőG. Szabó Hunor – dob \nA koncert hossza: 90 perc\nJegyár: 2000 – 2500 Ft \nJEGYEK ITT
URL:https://szentendreiteatrum.hu/event/borbely-muhely-jazzklub-vendeg-ifj-sarkozy-lajos-hegedumuvesz/
LOCATION:Dunaparti Művelődési Ház – Barlang\, Duna korzó 18.\, Szentendre
CATEGORIES:Fesztivál,Könnyűzene,TaFe,Zene,Zene, koncert
ATTACH;FMTTYPE=image/png:https://szentendreiteatrum.hu/wp-content/uploads/2026/02/Nevtelen-terv.png
GEO:47.6656532;19.0779925
X-APPLE-STRUCTURED-LOCATION;VALUE=URI;X-ADDRESS=Dunaparti Művelődési Ház – Barlang Duna korzó 18. Szentendre;X-APPLE-RADIUS=500;X-TITLE=Duna korzó 18.:geo:19.0779925,47.6656532
END:VEVENT
BEGIN:VEVENT
DTSTART;TZID=UTC:20260318T100000
DTEND;TZID=UTC:20260322T210000
DTSTAMP:20260425T214815
CREATED:20260220T150442Z
LAST-MODIFIED:20260312T222015Z
UID:10001229-1773828000-1774213200@szentendreiteatrum.hu
SUMMARY:X. ZENEVARÁZSLAT NEMZETKÖZI NÉGYKEZES ÉS KÉTZONGORÁS VERSENY
DESCRIPTION:A március 18. és 22. között tartó programsorozat megálmodója és művészeti vezetője: Várnagy Andrea Liszt Ferenc-díjas zongoraművész\, Érdemes művész.\nA napközbeni zongoraverseny mellett 5 napon át napközben szakmai\, esténként klasszikus zenei ingyenes programok várják az érdeklődőket\nSzentendrén. \nA programsorozat időtartama: március 18 – 22.\nA belépés ingyenes\, de regisztrációhoz kötött. \n REGISZTRÁCIÓ ITT!  \n \n 
URL:https://szentendreiteatrum.hu/event/x-zenevarazslat-nemzetkozi-negykezes-es-ketzongoras-verseny/
LOCATION:Hamvas Béla Pest Megyei Könyvtár színházterem\, Pátriárka utca 7.\, Szentendre\, Pest\, 2000\, Magyarország
CATEGORIES:Fesztivál,TaFe,Zene,Zene, koncert
ATTACH;FMTTYPE=image/jpeg:https://szentendreiteatrum.hu/wp-content/uploads/2026/02/Varnagy-Andrea-nagy-scaled.jpg
GEO:47.6694699;19.074893
X-APPLE-STRUCTURED-LOCATION;VALUE=URI;X-ADDRESS=Hamvas Béla Pest Megyei Könyvtár színházterem Pátriárka utca 7. Szentendre Pest 2000 Magyarország;X-APPLE-RADIUS=500;X-TITLE=Pátriárka utca 7.:geo:19.074893,47.6694699
END:VEVENT
BEGIN:VEVENT
DTSTART;TZID=UTC:20260318T193000
DTEND;TZID=UTC:20260318T203000
DTSTAMP:20260425T214815
CREATED:20260220T150301Z
LAST-MODIFIED:20260220T150411Z
UID:10001228-1773862200-1773865800@szentendreiteatrum.hu
SUMMARY:AZT A FEKETÉT KI KELLETT FESTENI (BARCSAY JENŐ) – EGY ÉLETMŰ ANATÓMIÁJA összművészeti performansz\, Gergye Krisztián Társulata
DESCRIPTION:A Gergye Krisztián Társulata és a Ferenczy Múzeumi Centrum által létrehozott összművészeti performansz Barcsay Jenő életműve ihletésében. \n„Legboldogabb voltam\, amikor a legutolsó fekete képeimet állítottam ki\, amikért nagyon kikaptam. De nagyon. Még azt is beírták a könyvbe\, hogy nem érdemlem meg az életemet.” Barcsay Jenő \nA projekt célja\, hogy Barcsay Jenő munkásságát a jelen kontextusába helyezve\, kortárs előadóművészeti eszközökkel tegye újraélhetővé. \nKOREOGRÁFIA\, ELŐADÓK Gesztelyi Nagy Csilla I Kovács Domokos I Gergye Krisztián\nZENE Árvai György – Parabryo\nANIMÁCIÓ Diena László\nSZAKMAI TANÁCSADÓ Szabó Noémi \nKONCEPCIÓ\, RENDEZÉS\, MONTÁZSOK Gergye Krisztián \nA Gergye Krisztián Társulata és a Ferenczy Múzeumi Centrum közös előadása.\n\nTámogatók: Pro Cultura Urbis Közalapítvány / MMA Magyar Művészeti Akadémia / NKA Nemzeti Kulturális Alap \nAz előadás hossza: 60 perc\nJegyár: 2900 Ft
URL:https://szentendreiteatrum.hu/event/azt-a-feketet-ki-kellett-festeni-barcsay-jeno-egy-eletmu-anatomiaja-osszmuveszeti-performansz-gergye-krisztian-tarsulata/
LOCATION:Hamvas Béla Pest Megyei Könyvtár színházterem\, Pátriárka utca 7.\, Szentendre\, Pest\, 2000\, Magyarország
CATEGORIES:Előadás,Fesztivál,Performansz,TaFe,Tánc
ATTACH;FMTTYPE=image/jpeg:https://szentendreiteatrum.hu/wp-content/uploads/2026/02/Gergye-K-Barcsay-2.jpg
GEO:47.6694699;19.074893
X-APPLE-STRUCTURED-LOCATION;VALUE=URI;X-ADDRESS=Hamvas Béla Pest Megyei Könyvtár színházterem Pátriárka utca 7. Szentendre Pest 2000 Magyarország;X-APPLE-RADIUS=500;X-TITLE=Pátriárka utca 7.:geo:19.074893,47.6694699
END:VEVENT
BEGIN:VEVENT
DTSTART;TZID=UTC:20260322T103000
DTEND;TZID=UTC:20260322T111500
DTSTAMP:20260425T214816
CREATED:20260220T150223Z
LAST-MODIFIED:20260316T132305Z
UID:10001227-1774175400-1774178100@szentendreiteatrum.hu
SUMMARY:BOGYÓ ÉS BABÓCA - UTAZÁS ÁLOMORSZÁGBA bábelőadás Bartos Erika nagysikerű mesesorozatából
DESCRIPTION:Anya\, csak még egy mesét… anya\, még éhes vagyok… anya\, laknak emberek az űrben… de miért? Ismerős? Nem is olyan egyszerű ez az elalvás esténként\, annyi kérdés és annyi izgalmas történet foglalkoztatja a gyerekeket\, pont mikor már aludni kellene. \nA csigafiú és katicalány kalandjai a kisgyerekek nyelvén mesélnek azokról a helyzetekről\, kapcsolatokról\, jellegzetes problémákról\, melyek a mindennapjaik részét képezik. Legyen szó barátságok születéséről egy pók barlangjában\, hétköznapi konfliktusokról egy tönkretett hóember miatt\, csínytevésekről\, az esti lefekvés nehézségeiről vagy akár egy jelmezbálba készülés izgalmairól. A Bogyó és Babóca-mesék ismerős és befogadható helyzeteken keresztül szólítják meg mind a gyermekeket\, mind pedig szüleiket. A bábelőadás színpadi valósággá varázsolja a gyermekek számára ezt az oly kedves és meghitt mesevilágot. \nA Kultkikötő és az Összpróba produkciója Bartos Erika nagy sikerű mesesorozatából válogatva viszi színpadra a legkedveltebb történeteket\, amelyek varázslatos világukkal kicsiket és nagyokat egyaránt elbűvölnek. \nJÁTSSZA Spiegl Anna \nBARTOS ERIKA MESÉI ALAPJÁN ÍRTA Jeli Viktória\nDíszlet\, jelmez\, bábtervező: DÍSZLET\, JELMEZ\, BÁBTERVEZŐ Molnár Anna I Király Betti\nRENDEZŐ Mórocz Adrienn \nA Kultkikötő és az Összpróba produkciója. \nAjánlott: 3 éves kortól.\nA program hossza: kb. 45 perc\, szünet nélkül\nJegyár: 3900 Ft
URL:https://szentendreiteatrum.hu/event/bogyo-es-baboca-utazas-alomorszagba-babeloadas-bartos-erika-nagysikeru-mesesorozatabol/
LOCATION:Dunaparti Művelődési Ház – Barlang\, Duna korzó 18.\, Szentendre
CATEGORIES:Előadás,Fesztivál,Gyerek,Gyerekprogram,Kiemelt,Színház,TaFe
ATTACH;FMTTYPE=image/jpeg:https://szentendreiteatrum.hu/wp-content/uploads/2026/02/Bogyo-es-Baboca-6.jpg
GEO:47.6656532;19.0779925
X-APPLE-STRUCTURED-LOCATION;VALUE=URI;X-ADDRESS=Dunaparti Művelődési Ház – Barlang Duna korzó 18. Szentendre;X-APPLE-RADIUS=500;X-TITLE=Duna korzó 18.:geo:19.0779925,47.6656532
END:VEVENT
BEGIN:VEVENT
DTSTART;TZID=UTC:20260322T170000
DTEND;TZID=UTC:20260322T182000
DTSTAMP:20260425T214816
CREATED:20260220T150202Z
LAST-MODIFIED:20260319T152623Z
UID:10001226-1774198800-1774203600@szentendreiteatrum.hu
SUMMARY:MIÉRT HAGYTUK\, HOGY ÍGY LEGYEN? zenés irodalmi est Schlanger Andrással
DESCRIPTION:A SZÍNHÁZJEGGYEL MÁRCIUS 22. VASÁRNAP MEGTEKINTHETŐ A MŰVÉSZETMALOM ITT VAGYOK című KIÁLLÍTÁSA\nVALAMINT\nA SZÍNHÁZJEGY FELMUTATÁSÁVAL MÁRCIUS 22-ÉN\, VASÁRNAP A SZENTENDREI DOROTHEA BISTRO&CAFE-BAN 10% KEDVEZMÉNNYEL LEHET FOGYASZTANI \nAz utóbbi időkben baráti beszélgetéseken gyakran felmerült a kérdés: hogyan történhetett\, hogy a rendszerváltáskor viszonylag jó helyzetből induló Magyarország mára Európa legszegényebb és legkorruptabb országa lett\, az intézményrendszer\, az egészségügy\, az oktatás\, a magas kultúra stb. ma ott tart\, ahol tart? És ez nem a hátunk mögött történt\, hanem a jelenlétünkben\, a szemünk láttára. Az értelmiség asszisztálásával vagy közreműködésével.\nMit tettünk vagy mit nem tettünk\, hogy ne így legyen? Mit tehetettünk volna? Mit kellett volna másképpen tennünk?\nEzeket a kérdéseket feszegeti ez a színházi este. \nA munka folyamán videóinterjúkat készítettünk mértékadó személyiségekkel\, szakemberekkel. A névsor: Iványi Gábor\, Ascher Tamás\, Lengyel László\, Radnóti Sándor\, Sz. Bíró Zoltán\, Romsics Ignác\, Kéri László\, Kiss Judit Ágnes\, Mikecz Dániel\, Parászka Boróka. \nAz elkészült\, szerkesztett interjúkból néhányat közöl majd a Mozgó Világ. A felvett interjúk nagy méretű vászonra kivetített részletei képezik majd az előadás vázát\, amely egyben betölti a díszlet szerepét is egy kisasztal és egy fotel mellett. Az interjúkkal összecsengő versek\, próza- és tanulmányrészletek adják az este irodalmi anyagát\, Adytól Petrin át Tóth Krisztináig\, Máraitól Bibón át Esterházyig. A hatalmas anyag feldolgozásában elsősorban két tapasztalt irodalmár volt segítségemre\, Várady Szabolcs Kossuth-díjas költő\, a Holmi egykori szerkesztője és Bognár Róbert József Attila-díjas műfordító\, a Mozgó Világ volt főszerkesztő-helyettese; mindketten régi színházi szerzőtársaim. \nAz előadás produkciós menedzsere Koskovics Éva közgazdász\, civil aktivista. Élő zene kíséri az előadást\, Kéménczy Antal\, a Pintér Béla és Társulata zenei vezetője szerkesztésében\, közreműködésével. Olyan dalok hangzanak el\, amelyek megidézik a rendszerváltás előtti kor hangulatát (Cseh Tamás–Bereményi)\, de megszólalnak mai fiatal szerzők művei\, illetve alternatív dalok is a rendszerváltás utáni időszakból. Kéménczy új zenét is komponál kortárs költők verseire. \nELŐADJA ÉS RENDEZTE Schlanger András\nIRODALMI ANYAG VÉGLEGESÍTŐI Várady Szabolcs I Bognár Róbert\nZENEI SEGÍTŐ Kéménczy Antal \nAz előadás hossza: 80 perc\, szünet nélkül\nJegyár: 5500 Ft \n  \n    \n 
URL:https://szentendreiteatrum.hu/event/miert-hagytuk-hogy-igy-legyen-zenes-irodalmi-est-schlanger-andrassal/
LOCATION:Dunaparti Művelődési Ház – Barlang\, Duna korzó 18.\, Szentendre
CATEGORIES:Előadás,Fesztivál,Irodalom,Kiemelt,Színház,TaFe
ATTACH;FMTTYPE=image/jpeg:https://szentendreiteatrum.hu/wp-content/uploads/2026/02/Miert-hagytuk-hogy-igy.jpg
GEO:47.6656532;19.0779925
X-APPLE-STRUCTURED-LOCATION;VALUE=URI;X-ADDRESS=Dunaparti Művelődési Ház – Barlang Duna korzó 18. Szentendre;X-APPLE-RADIUS=500;X-TITLE=Duna korzó 18.:geo:19.0779925,47.6656532
END:VEVENT
BEGIN:VEVENT
DTSTART;TZID=UTC:20260324T190000
DTEND;TZID=UTC:20260324T210000
DTSTAMP:20260425T214816
CREATED:20260319T180653Z
LAST-MODIFIED:20260323T060518Z
UID:10001231-1774378800-1774386000@szentendreiteatrum.hu
SUMMARY: ÖSSZEFOGÁS  Jótékonysági koncert a Rokonál család megsegítésére
DESCRIPTION:A helyszínen lehetőséget biztosítunk további adományok fogadására.Jótékonysági koncertet szervezünk a Rokonál család megsegítésére. A tragikus körülmények között eltűnt Rokonál Benedek családja nehéz helyzetbe került: felesége két kisgyermekkel\, épülő házzal maradt egyedül.A rendezvény célja\, hogy közösségi összefogással anyagi és lelki támogatást nyújtsunk számukra ebben a rendkívül megterhelő időszakban.A koncert nemcsak adománygyűjtő esemény\, hanem egy közös kiállás is a család mellett. Hisszük\, hogy a zene ereje képes összehozni az embereket\, és valódi segítséget jelenthet ott\, ahol a legnagyobb szükség van rá.Az est folyamán fellépő művészek és támogatók önzetlen felajánlásukkal járulnak hozzá a kezdeményezés sikeréhez. A befolyt teljes bevételt a család támogatására fordítjuk.Műsorvezető:Borbás Marcsi\nFellépők művészek:DalindaKaláka együttesSebő-együttesSzvorák KatalinTímár Sára és zenekaraVujicsics együttes\nA koncert hossza: kb. 120 perc\nJegyár: 6000 Ft
URL:https://szentendreiteatrum.hu/event/osszefogas-jotekonysagi-koncert-a-rokonal-csalad-megsegitesere/
LOCATION:Hamvas Béla Pest Megyei Könyvtár színházterem\, Pátriárka utca 7.\, Szentendre\, Pest\, 2000\, Magyarország
CATEGORIES:Kiemelt,Könnyűzene,Zene,Zene, koncert
ATTACH;FMTTYPE=image/jpeg:https://szentendreiteatrum.hu/wp-content/uploads/2026/03/Rokonal.jpg
GEO:47.6694699;19.074893
X-APPLE-STRUCTURED-LOCATION;VALUE=URI;X-ADDRESS=Hamvas Béla Pest Megyei Könyvtár színházterem Pátriárka utca 7. Szentendre Pest 2000 Magyarország;X-APPLE-RADIUS=500;X-TITLE=Pátriárka utca 7.:geo:19.074893,47.6694699
END:VEVENT
BEGIN:VEVENT
DTSTART;TZID=UTC:20260328T190000
DTEND;TZID=UTC:20260328T204000
DTSTAMP:20260425T214816
CREATED:20260220T120010Z
LAST-MODIFIED:20260309T190923Z
UID:10001220-1774724400-1774730400@szentendreiteatrum.hu
SUMMARY:MINDENT BELE\, AVAGY A LELKEK NYUGALMA generációs kíntorna két szerzőre és három színészre
DESCRIPTION: JEGYVÁSÁRLÁS IDE KATTINTVA \nKülönös kísérletre vállalkozik a Delta Produkció: felkértünk két neves színpadi szerzőt\, hogy kutassanak a generációs ellentétek\, hasonlóságok és különbözőségek témájában. Az eredmény két ízig-vérig kortárs magyar egyfelvonásos\, melyek Keresztes Tamás rendezésében szövődnek egymásba\, hogy arról meséljenek: tudunk-e egymással kommunikálni\, amikor teljesen más minták alapján szocializálódunk? \n„Nem nyughat az Égben egy halhatatlan lélek\, amíg a csepeli Rózsakertben lecsókolbászt tesznek a Jókai-bablevesbe. Az Úr tehát elküldi három angyalát\, hogy oldják meg ezt a kényes ügyet. És ha már úgyis a Földön járnak\, vigyenek magukkal egy titokzatos dobozkát is. Ezzel kezdődik apák és fiúk párhuzamos története\, amit persze\, ahogy általában\, most is a lányok tesznek kiszámíthatatlanul szövevényessé.”\nNémeth Gábor \n„A vasárnap délutáni meccsnézésben az a jó\, hogy lehet egy kicsit szeretni egymást közben. Eszed a kolbászt\, és szinte elfelejted\, hogy a fiad egyáltalán nem olyan\, amilyennek lennie kéne. Iszod a sört\, és eszedbe se jut\, hogy az apád képtelen elfogadni a másmilyenséged. Ordítva szidjátok a bírót\, a csatárotok kihagyja az összes helyzetet\, és néhány órára olyan\, mintha nem lenne teljes káosz a világ. Csak hát néha úgy alakul a vasárnap\, hogy a kolbász belelóg a mustárba. És akkor már muszáj kimondani\, hogy mire jött rá az ember\, amikor egyszer régen ráhúzott az arcára egy női bugyit. Meg azt is tisztába kell tenni\, hogy akkor végülis ki ebben a családban apuci kedvence. Ja\, meg van ez a kullancs. Amit valakinek valamikor valahogyan ki kell majd szedni.”\nBiró Zsombor Aurél \nSZEREPLŐK Kádár Kinga I Mucsi Zoltán I Olasz Renátó\na Jóisten és Gyula hangja: Thuróczy Szabolcs \nALKOTÓK maszk: Szeberényi Lejla I jelmeztervező: Kovács Andrea I fénytervező: Markó Zsolt I videó: Török Marcell I plakát: Nagy Gergő \nÍRTA Németh Gábor I Bíró Zsombor Aurél\nDRAMATURG Bíró Bence RENDEZŐASSZISZTENS Láng Zsuzsa I Szőnyi Franciska \nRENDEZŐ Keresztes Tamás \nKÜLÖN KÖSZÖNET Domokos Imola I Gyulay Eszter I Tölli Judit I Vati Tamás I Koma Bázis \nA Delta Produkció előadása.  \n18 ÉVEN FELÜLIEKNEK \nAz előadás hossza: 100 perc\, szünet nélkül\nJegyár: 8990-16490 Ft \n JEGYVÁSÁRLÁS IDE KATTINTVA  \n 
URL:https://szentendreiteatrum.hu/event/mindent-bele-avagy-a-lelkek-nyugalma-generacios-kintorna-ket-szerzore-es-harom-szineszre/
LOCATION:Hamvas Béla Pest Megyei Könyvtár színházterem\, Pátriárka utca 7.\, Szentendre\, Pest\, 2000\, Magyarország
CATEGORIES:Előadás,Fesztivál,Kiemelt,kortárs színdarab,Színház,TaFe,TaFe
ATTACH;FMTTYPE=image/jpeg:https://szentendreiteatrum.hu/wp-content/uploads/2026/02/Mindent-bele-facebook-esemeny.jpg
GEO:47.6694699;19.074893
X-APPLE-STRUCTURED-LOCATION;VALUE=URI;X-ADDRESS=Hamvas Béla Pest Megyei Könyvtár színházterem Pátriárka utca 7. Szentendre Pest 2000 Magyarország;X-APPLE-RADIUS=500;X-TITLE=Pátriárka utca 7.:geo:19.074893,47.6694699
END:VEVENT
BEGIN:VEVENT
DTSTART;TZID=UTC:20260329T180000
DTEND;TZID=UTC:20260329T193000
DTSTAMP:20260425T214816
CREATED:20260220T150139Z
LAST-MODIFIED:20260309T190909Z
UID:10001225-1774807200-1774812600@szentendreiteatrum.hu
SUMMARY:VIRÁGVASÁRNAPI HANGVERSENY a Musica Beata Vegyeskarral
DESCRIPTION:A Virágvasárnapi hangverseny több évtizede Szentendre kulturális életének egyik kuriózuma. A Musica Beata Vegyeskar ezen a koncerten nagyböjti és húsvéti szakrális műveket szólaltat meg\, melyekben a Szentendrei Református Gimnázium kápolnájában lakó orgona is központi szerephez jut. \nVEZÉNYEL Bokorné Forró Ágnes \nAz előadás hossza: kb. 90 perc\, szünet nélkül\nA belépés ingyenes. \n 
URL:https://szentendreiteatrum.hu/event/viragvasarnapi-hangverseny-a-musica-beata-vegyeskarral-2/
LOCATION:Református Gimnázium kápolnája (Áprily Lajos tér 3-5.)
CATEGORIES:Fesztivál,Kiemelt,TaFe,Zene,Zene, koncert
ATTACH;FMTTYPE=image/jpeg:https://szentendreiteatrum.hu/wp-content/uploads/2026/02/Musica-Beata.jpg
END:VEVENT
BEGIN:VEVENT
DTSTART;TZID=UTC:20260330T190000
DTEND;TZID=UTC:20260330T202000
DTSTAMP:20260425T214816
CREATED:20260216T181127Z
LAST-MODIFIED:20260323T154512Z
UID:10001216-1774897200-1774902000@szentendreiteatrum.hu
SUMMARY:DARÁZS pszichotriller
DESCRIPTION:JEGYVÁSÁRLÁS IDE KATTINTVA \nSegítségnyújtásból bosszúhadjárat\, negédes small talkból kegyetlen pszichothriller. Egy krimi\, ami úgy csíp\, mint a darázs. \nKét iskolai barátnő húsz év után újra találkozik. Nem is alakulhatott volna különbözőbben az életük\, mégis van\, amiben hasonlítanak egymásra\, ami összeköti őket. Az egyik nem igazán akar semmit a másiktól\, a másik nagyon is akar valamit. A férjéről van szó\, akiről gyanítja\, hogy megcsalja. A segítségnyújtásból bosszúhadjárat lesz\, a negédes small talkból kegyetlen pszichothriller. \nLétezik egy bizonyos darázsfajta\, ami csípésével olyan erős idegmérget juttat áldozata szervezetébe\, hogy az percekre lebénul. Még egy ember is. Állítólag ez a csípés okozza az egyik legnagyobb és legelviselhetetlenebb fizikai fájdalmat. Fiatalkori traumák is lehetnek ennyire fájdalmasak? Mi mindenre vagyunk képesek\, hogy szabaduljunk tőlük? \n„Négykézláb tapicskolsz a szarban. Egy senki vagy. Egész életedben azt vártad\, hogy egyszer majd minden jobbra fordul\, de nem. Eszel\, alszol\, baszol\, ennyi az életed. És ezt már kurvára unod. Bármit megtennél\, csak ki tudj szállni belőle. A gyerekeid miatt. Önmagad miatt. És most lehetőséged van tiszta lappal indulni. A férjed nélkül\, aki csak púp a hátadon. Költözz el. Bérelj egy lakást valami szép helyen. Kezdd újra. Tudom\, hogy ezt akarod.” \nA Darázs a bemutató évében a Fidelio „ÜGY” nevű díját kapta meg. \nAz előadást egy 70 perces\, interaktív feldolgozás követi\, amelyben a nézők aktív résztvevőkké válnak. A közös munka célja az empátia és a tudatos reakciók erősítése\, valamint a biztonságos\, támogató közösségi kultúra továbbépítése. \nJÁTSSZA Kiss-Végh Emőke I Rujder Vivien \nÍRTA Morgan Lloyd Malcolm  \nfordította Bognár Péter I a fordítást átdolgozta Bíró Bence dramaturg Bíró Bence I videó Ofner Gergely I grafika Nagy Gergő I díszlet- és jelmeztervező Balázs Juli I rendezőasszisztens Varga Miklós\nRENDEZTE Ördög Tamás\nPRODUCER Kövesd Zsuzsa I Gerlóczi Judit \nA Delta Produkció előadása. \n16 ÉVEN FELÜLIEKNEK AJÁNLJUK \nAz előadás hossza: 80 perc\, szünet nélkül\nJegyár: 7990 – 9990 Ft \nJEGYVÁSÁRLÁS IDE KATTINTVA
URL:https://szentendreiteatrum.hu/event/darazs-pszichotriller-tavaszi-fesztival/
LOCATION:Hamvas Béla Pest Megyei Könyvtár színházterem\, Pátriárka utca 7.\, Szentendre\, Pest\, 2000\, Magyarország
CATEGORIES:Előadás,Fesztivál,Kiemelt,kortárs színdarab,Színház,TaFe,TaFe
ATTACH;FMTTYPE=image/jpeg:https://szentendreiteatrum.hu/wp-content/uploads/2026/02/Darazs-cover.jpg
GEO:47.6694699;19.074893
X-APPLE-STRUCTURED-LOCATION;VALUE=URI;X-ADDRESS=Hamvas Béla Pest Megyei Könyvtár színházterem Pátriárka utca 7. Szentendre Pest 2000 Magyarország;X-APPLE-RADIUS=500;X-TITLE=Pátriárka utca 7.:geo:19.074893,47.6694699
END:VEVENT
END:VCALENDAR