BEGIN:VCALENDAR
VERSION:2.0
PRODID:-//Szentendrei teátrum - ECPv6.15.14//NONSGML v1.0//EN
CALSCALE:GREGORIAN
METHOD:PUBLISH
X-ORIGINAL-URL:https://szentendreiteatrum.hu
X-WR-CALDESC:Események Szentendrei teátrum
REFRESH-INTERVAL;VALUE=DURATION:PT1H
X-Robots-Tag:noindex
X-PUBLISHED-TTL:PT1H
BEGIN:VTIMEZONE
TZID:UTC
BEGIN:STANDARD
TZOFFSETFROM:+0000
TZOFFSETTO:+0000
TZNAME:UTC
DTSTART:20240101T000000
END:STANDARD
END:VTIMEZONE
BEGIN:VEVENT
DTSTART;TZID=UTC:20251012T160000
DTEND;TZID=UTC:20251012T170000
DTSTAMP:20260426T021111
CREATED:20250903T142658Z
LAST-MODIFIED:20250916T184520Z
UID:10001188-1760284800-1760288400@szentendreiteatrum.hu
SUMMARY:A PIROS ESERNYŐ Csetényi Anikó és Presser Gábor zenés mesejátéka
DESCRIPTION:Az eseményre minden jegy elkelt! Következő időpont: október 26.JEGYEK \nPirkó\, Pumi\, Róka Rudi és Tapsi kalandjai életre kelnek… JÖN A PIROS ESERNYŐ című zenés mesejáték!2025 októberében különleges gyerekdarab debütál a Szentendrei Teátrumban.\nA PIROS ESERNYŐ Csetényi Anikó mesejátéka\, zenéjét Presser Gábor szerezte.Az előadás létrehozója a Lepkegyűjtő Produkció.Koprodukciós partnere a Szentendrei Teátrum.\nPirkó\, a kiscica izgatottan várja születésnapját.A torta mellé egy csodálatos piros esernyővel is megajándékozzák a szülei. Rögtön ki is próbálná – ám sehol egy felhő\, hétágra süt a nap. Azért biztos\, ami biztos\, mégis magával viszi a piros esernyőt\, hogy legalább megmutassa barátainak.Jól is teszi – hamarosan kiderül\, mi mindenre jó egy ilyen szép esernyő. S mire a nap véget ér\, új barátokra is szert tesz\, összeköti az erdő különféle lakóit\, és azt is megtapasztalja\, milyen jó másokon segíteni.\nPresser Gábor és Csetényi Anikó kalandokban bővelkedő\, zenés mesejátékát – Lőkös Ildikó szellemes átdolgozásában – 5 év fölötti gyerekeknek és szüleiknek szánjuk: igazi családi színház a Kolibri volt társulati tagjainak előadásában.\nSzereplők: Alexics Rita Erdei Júlia Krausz Gábor Nizsai Dániel Nyirkó Krisztina Rácz Kármen Rácz KrisztaA rendező munkatársa Gyevi-BÍró Eszter.\nA fülbemászó dalok élő zenével csendülnek fel Darvas Bence hangszerelésében.Az előadás látványvilágát és a csodálatos bábokat Michac Gábor tervezte.A sok derűs pillanatot és váratlan fordulatot ígérő produkció rendezője Vidovszky György.Egy „egyszerű” tárgy (mint egy piros esernyő) is hordozhat különleges értéket\, ha szeretettel használjuk.Pirkó piros esernyője csodákra képes\, segít a bajba jutottakon\, legyőzi a gonoszokat\, barátságok köttetnek a segítségével. Ehhez pedig nem kell más\, mint kíváncsiság\, együttérzés\, segíteni vágyás és hit abban\, hogy többre vagyunk képesek\, mint azt elsőre gondolnánk…\n\nA Lepkegyűjtő Produkció és a Szentendrei Teátrum közös produkciója. \n\nAz előadás hossza: kb. 60 perc\nJegyár: 4990 Ft – 7990 Ft
URL:https://szentendreiteatrum.hu/event/a-piros-esernyo-csetenyi-aniko-es-presser-gabor-zenes-mesejateka/
LOCATION:Hamvas Béla Pest Megyei Könyvtár Szinházterme\, Pátriarka u. 7.\, Szentendre\, Pest\, 2000\, Magyarország
CATEGORIES:Előadás,Gyerek,Gyerekprogram,Kiemelt
ATTACH;FMTTYPE=image/jpeg:https://szentendreiteatrum.hu/wp-content/uploads/2025/09/A-piros-esernyo-kep.jpg
END:VEVENT
BEGIN:VEVENT
DTSTART;TZID=UTC:20251014T180000
DTEND;TZID=UTC:20251014T190000
DTSTAMP:20260426T021111
CREATED:20250917T131239Z
LAST-MODIFIED:20251004T152756Z
UID:10001198-1760464800-1760468400@szentendreiteatrum.hu
SUMMARY:KAMASZODÓK – ÉLET A FALAKON TÚL ifjúsági előadás
DESCRIPTION:Nagy a világ és én félek\,szorongatnak a miértek.Lázadásom határt keres\,légy szigorú s közben szeress!Bármily nehéz\, nézz rám büszkén!Szeress úgy is\, ha szúr a tüském!”Andrássy Réka: A kamasz dala – részlet \nElőadásunk a kamaszlét határhelyzeteit\, az őket foglalkoztató kérdéseket\, bonyolult kapcsolatrendszerüket\, a közösséghez\, szülőkhöz való viszonyukat állítja középpontba\, remélhetőleg segíti a kamaszokat az átmeneti időszakban önmaguk és egymás elfogadását illetően\, teljes egészében az őket érintő kérdésekre\, érzelmi és testi változásaikra fókuszál. Dramaturgunk\, Pallai Mara színházi szempontokat szem előtt tartva fogja össze és szerkeszti meg az etűdökből álló előadást. Paár Julcsi énekművész\, zeneterapeuta az előadás zeneszerzője\, zenei szerkesztője változatos zenei világot penget meg\, megszólítva különböző zenei területekről érkező neves zenészeket\, legyen az jazz\, klasszikus\, világzene vagy folklór. Kortárs költőink\, íróink e témában megjelent költeményeiből is elhangzanak részletek az előadás folyamán. Fontosnak tartjuk\, hogy a fiatal generációt látvány szinten is meg tudjuk szólítani\, fúzióban más művészeti ágakkal\, legyen az előadás nagyon friss\, mai és igazán nekik szóló. \nAz előadásban részletek hangzanak el Andrássy Réka\, Ágai Ágnes\, Krusovszky Dénes\, Lackfi János és Mile Zsigmond Zsolt alkotásaiból.Dramaturg: Pallai MaraZeneszerző\, zenei szerkesztő: Paár Julcsi Fonogram-díjasJelmez: Kocsis Enikő Harangozó Gyula-díjasSzaktanácsadó: Szécsi Judit gyermek- és ifjúsági szakpszichológusFénytervező: Papp KornélRendező-koreográfus: Fitos Dezső a Népművészet Ifjú Mestere\, Harangozó Gyula-díjas\, Érdemes Művész és Kocsis Enikő Harangozó Gyula-díjasTáncolja a Fitos Dezső Társulat tánckara \n12 éven felülieknek ajánljuk. \nAz előadás létrejöttét a Kulturális és Innovációs Minisztérium\, valamint a Nemzeti Kulturális Alap támogatja. \nAZ ELŐADÁST UGYANEZEN A NAPON 13H-KOR IS JÁTSSZUK\, ARRA AZ ELŐADÁSRA ISKOLAI CSOPORTOK TUDNAK JEGYET VÁLTANI. INFORMÁCIÓ\, JEGYEK A FITOS DEZSŐ TÁRSULAT ELÉRHETŐSÉGEIN:  fitosdezsotarsulat2022@gmail.com vagy  20 535 9822 Varga Eszter.  \n 
URL:https://szentendreiteatrum.hu/event/kamaszodok-elet-a-falakon-tul-ifjusagi-eloadas-2/
LOCATION:Hamvas Béla Pest Megyei Könyvtár színházterem\, Pátriárka utca 7.\, Szentendre\, Pest\, 2000\, Magyarország
CATEGORIES:Előadás,Gyerek,Gyerekprogram,Kiemelt,Tánc
ATTACH;FMTTYPE=image/jpeg:https://szentendreiteatrum.hu/wp-content/uploads/2025/09/kamaszodok.jpg
GEO:47.6694699;19.074893
X-APPLE-STRUCTURED-LOCATION;VALUE=URI;X-ADDRESS=Hamvas Béla Pest Megyei Könyvtár színházterem Pátriárka utca 7. Szentendre Pest 2000 Magyarország;X-APPLE-RADIUS=500;X-TITLE=Pátriárka utca 7.:geo:19.074893,47.6694699
END:VEVENT
BEGIN:VEVENT
DTSTART;TZID=UTC:20251017T190000
DTEND;TZID=UTC:20251017T210000
DTSTAMP:20260426T021111
CREATED:20250910T124419Z
LAST-MODIFIED:20251013T084345Z
UID:10001190-1760727600-1760734800@szentendreiteatrum.hu
SUMMARY:A PADLÁS félig mese\, félig musical két részben
DESCRIPTION:Presser Gábor – Sztevanovity Dusán – Horváth Péter:A Padlás– félig mese félig musical 9-99 éves korig két részben – \nA darab egyetlen éjszaka alatt\, egy fővárosi padlástérben játszódik 1988-ban\, a kommunizmus utolsó éveiben. Itt él Rádiós\, a kibernetikus\, aki jelenleg szellemi szabadfoglalkozású\, mivel 1986-ban engedély nélkül próbált kapcsolatot teremteni idegen bolygókkal és földönkívüliekkel\, ezért elbocsájtották az állami központból. Szintén erre a padlásra érkezik meg a négy szellem\, Kölyök (az első\, aki szóvá merte tenni\, hogy a király meztelen)\, Herceg (oldalági Lombard herceg\, aki egy másik herceggel szemben elveszítette azt a fogadást\, melyikük ébreszti fel Csipkerózsikát)\, Lámpás (a nyolcadik törpe\, aki őrségben állt társai védelmében\, Hófehérke érkezése után azonban megfeledkeztek róla) és Meglökő (egy jólelkű hóhér\, aki az ártatlanul elítélt Kölyköt próbálta megvédeni\, de menekülés közben mindketten odavesztek). A négy bolyongó csupán véletlenül ragadt a Földön. Révészt keresik\, hogy átvigye őket az örökre szépek bolygójára. Időközben feltűnik Barrabás\, a bombaszakértő gengszter\, akit összetévesztenek a szellemek Révésszel\, továbbá Mamóka is felbukkan néha\, például egy tál szilvásgombóccal\, valamint a szomszédban élő Zeneakadémista\, Süni is betoppan\, hősiességével és bájával elvarázsolva a szellemeket\, bár a jó öreg padláson neki már régóta megvan ám a kiszemeltje…\n\n\n\nSzereplők:\n\n\nRádiós\, aki egyszerűen fantasztikus: Cseh Dávid PéterSüni\, fiatal lány\, aki hegedülni tanul: Henczi EmmaMamóka\, aki mindent tud az emberekről: Zorgel EnikőBarrabás\, B. Barrabás\, a gengszter: Borbély RichárdRévész\, aki csak külsőleg azonos Barrabással: Borbély RichárdHerceg\, finomlelkű szellem 560 éves: Krajnik-Balogh GáborKölyök\, naiv szellem\, 530 éves: Molnár GyöngyiLámpás\, a törpe\, zsörtölődő szellem: Janik LászlóMeglökő\, óriás szellem\, süketnéma: Palotai ZoltánTémüller\, azelőtt házmester\, most önkéntes: Kékesi GáborDetektív\, aki még önmagát is kinyomozza: Szemán BélaÜteg\, a detektív másik balkeze: Vincze MártonRobinson\, a gép: Pásztor Tibor\n\n\nRendezőasszisztens: Czipó GabriellaDíszlet- és jelmeztervező: Michac GáborKoreográfus: Bakó GáborZenei vezető: Nyitrai László\n\n\nRendező: Böhm György (Jászai-díjas)\n\n\n\nAz előadás időtartama: kb. 125 perc egy szünettel\nA Veres 1 Színház előadása.Bemutató: 2022. május 21.
URL:https://szentendreiteatrum.hu/event/a-padlas-felig-mese-felig-musical-ket-reszben/
LOCATION:Hamvas Béla Pest Megyei Könyvtár Szinházterme\, Pátriarka u. 7.\, Szentendre\, Pest\, 2000\, Magyarország
CATEGORIES:Előadás,Kiemelt,Színház,Zene
ATTACH;FMTTYPE=image/webp:https://szentendreiteatrum.hu/wp-content/uploads/2025/09/apadlas_nyitokep2.webp
END:VEVENT
BEGIN:VEVENT
DTSTART;TZID=UTC:20251018T190000
DTEND;TZID=UTC:20251018T213000
DTSTAMP:20260426T021111
CREATED:20250918T124144Z
LAST-MODIFIED:20250918T124144Z
UID:10001199-1760814000-1760823000@szentendreiteatrum.hu
SUMMARY:FIGYELJ RÁM\, FIAM! 45 éves a Rock Színház\, Várkonyi Mátyás szerzői estje
DESCRIPTION:Várkonyi Mátyás\, a 45 éve alakult Rock Színház alapító-igazgatójának és a Generál együttes vezetőjének szerzői estje. \nA jubileumi műsorban a Rock Színház legendás sztárjaival\, a Generál együttes ikonikus zenészeivel találkozhatnak a nézők. \nAz est fővendége: Várkonyi Mátyás \nAz est házigazdái: Kocsák Tibor\, Borsi László \nAz esten fellépnek többek között: \nBalogh Bodor Attila\, Csuha Lajos\, Eszményi Viktória\, Füredi Nikolett\, Homonyik Sándor\, Kováts Kriszta\, Makrai Pál\, Malek Andrea\, Meződi József\, Novai Gábor\, Sasvári Sándor\, Szolnoki Tibor\, Udvarias Anna\, Ullmann Zsuzsa …és még sokan mások \nAz idén 75 éves VÁRKONYI MÁTYÁS zeneszerző\, szövegíró\, karmester\, producer szerzői estjén felidézi pályafutása legfontosabb állomásait. Művész barátai pedig elhozzák a szerző legismertebb műveiből a legkedvesebb dalaikat. \nAz egyik legismertebb hazai zenész mesél arról\, hogy milyen út vezetett a Generál együttestől az idén 45 éve alapított ikonikus Rock Színházig\, és hogyan folytatódott ez a gazdag életpálya az elmúlt évtizedekben. Szó lesz a legismertebb musical-darabjairól\, és nagy slágereiről\, a pályatársakról és barátokról is. \nAz estet az általa is alapított Musical Klub a Szentendrei Kulturális Központtal együttműködve szervezi. \n\n		\n		\n			\n				\n			\n				\n				Várkonyi Mátyás\, a Rock Színház alapító-igazgatója és a Generál együttes vezetője\n				\n			\n				\n			\n				\n				Rock Színház: Evita\n				\n			\n				\n			\n				\n				Várkonyi Mátyás – Fortepan
URL:https://szentendreiteatrum.hu/event/figyelj-ram-fiam-45-eves-a-rock-szinhaz-varkonyi-matyas-szerzoi-estje/
LOCATION:Hamvas Béla Pest Megyei Könyvtár színházterem\, Pátriárka utca 7.\, Szentendre\, Pest\, 2000\, Magyarország
CATEGORIES:Kiemelt,Könnyűzene,Színház,Zene
ATTACH;FMTTYPE=image/png:https://szentendreiteatrum.hu/wp-content/uploads/2025/09/matyi-fbnyito.png
GEO:47.6694699;19.074893
X-APPLE-STRUCTURED-LOCATION;VALUE=URI;X-ADDRESS=Hamvas Béla Pest Megyei Könyvtár színházterem Pátriárka utca 7. Szentendre Pest 2000 Magyarország;X-APPLE-RADIUS=500;X-TITLE=Pátriárka utca 7.:geo:19.074893,47.6694699
END:VEVENT
BEGIN:VEVENT
DTSTART;TZID=UTC:20251019T190000
DTEND;TZID=UTC:20251019T214500
DTSTAMP:20260426T021111
CREATED:20250910T125919Z
LAST-MODIFIED:20250916T185501Z
UID:10001191-1760900400-1760910300@szentendreiteatrum.hu
SUMMARY:AZ ACKROYD-GYILKOSSÁG krimi két részben
DESCRIPTION:Agatha Christie regényét színpadra adaptálta: Mark Shanahan \nA számos rejtélyes és titokzatos ügyet felgöngyölítő\, kiváló belga nyomozó\, Hercule Poirot nyugdíjba vonul. Békés nyugdíjas éveit élvezendő\, a barátságos\, de kissé álmatagul eseménytelen angol uradalmi birtokra\, King’s Abbott-be költözik. \nÁm nem sokkal érkezése után a helységben két megmagyarázhatatlan haláleset történik. \nA Scotland Yard által kirendelt rendőrfelügyelő nincs a helyzet magaslatán\, így a gyászoló család kérésére Poirot – nyugdíj ide vagy oda – a tőle megszokott hevülettel veti bele magát az igazság megszállott keresésébe\, ami feltehetőleg pályafutása utolsó megoldott bűnügye lesz. \nSegítségéül szegődik a helyi orvos\, Dr. James Sheppard\, s az ő kettősük leleményes együttműködése során fény derül az igazságra\, ami sokkal meglepőbb\, mint ahogyan azt gondolnánk. \nSzereplők:Hercule Poirot: KÁLID ARTÚRRalph Paton: TARLÓS FERENCDr. James Sheppard: SZABÓ P. SZILVESZTERCaroline Sheppard: ZORGEL ENIKŐHector Blunt őrnagy: SZÁRAZ DÉNESHelen Russell: MOLNÁR GYÖNGYIFlora Ackroyd: GÁSPÁRFALVI DORKAUrsula Bourne: MIKLÓS KRISZTAParker: JANIK LÁSZLÓGertrude Ackroyd: FÉSŰS NELLYRaglan felügyelő: PÁSZTOR TIBORRoger Ackroyd: VENYIGE SÁNDOR \nFordította: Galambos Attila \nSúgó: Paku ÉvaRendezőasszisztens: Páli VeronikaDíszlettervező: Bátonyi GyörgyJelmeztervező: Papp JanóZene: Remete Marcell \nRendező: Simon Kornél \nA Veres 1 Színház előadása. \nAZ ACKROYD GYILKOSSÁG© 2023 Agatha Christie Limited & Mark ShanahanMinden jog fenntartva.színpadra alkalmazvaTHE MURDER OF ROGER ACKROYD© 1926 Agatha ChristieMinden jog fenntartva.regénye alapján \nAGATHA CHRISTIE és POIROT az Agatha Christie Ltd. védjegyei.Minden jog fenntartva. \nA színdarabot Magyarországon a Theatrum Mundi Színházi és Irodalmi Ügynökség képviseli: www.theatrum-mundi.huAgatha Christie e színdarabjáról és más színdarabjairól az alábbi weblapon olvashat: www.agathachristie.comMark Shanahanről az alábbi weblapon található további információ: www.mark-shanahan.net
URL:https://szentendreiteatrum.hu/event/az-ackroyd-gyilkossag-krimi-ket-reszben/
LOCATION:Hamvas Béla Pest Megyei Könyvtár Szinházterme\, Pátriarka u. 7.\, Szentendre\, Pest\, 2000\, Magyarország
CATEGORIES:Kiemelt,kortárs színdarab,Színház
ATTACH;FMTTYPE=image/jpeg:https://szentendreiteatrum.hu/wp-content/uploads/2025/09/528924770_1172998728198762_6362736562386909948_n.jpg
END:VEVENT
BEGIN:VEVENT
DTSTART;TZID=UTC:20251020T190000
DTEND;TZID=UTC:20251020T203000
DTSTAMP:20260426T021111
CREATED:20250916T185024Z
LAST-MODIFIED:20251018T131204Z
UID:10001192-1760986800-1760992200@szentendreiteatrum.hu
SUMMARY:ÖREGLÁNYOK zenés komédia
DESCRIPTION:Íme\, négy nő. A mai hetvenesek.Négy különböző kultúrájú „öreglány” – őszinték\, viccesek- igazi emberek\, még most is ízig – vérig nők.Életük utolsó fejezetében\, a hedonizmust és a nevetést választják.Néha nyersek\, mégis rengeteg könnyedség és humor van bennük.Négy nő. Rajtuk keresztül látjuk a huszadik század történelmét amelynek stigmáit ma is őrizzük…Öreglányok\, akik úgy játszanak\, mint a gyerekek a játszótéren.Nevetnek Isteneken\, szerelmeken\, betegségeken\, a társadalom korlátain.Olyan nők\, akikhez az élet nem volt mindig kegyes\, mégis minden mondatukkal azt üzenik: NEVESS ÉS ÉLJ!!! \nSzereplők:Oszvald MarikaSztárek AndreaKovács KrisztaTallós Rita \nAlkotókÍrta: Csík CsabaRendezte: Tallós RitaDíszlet-Jelmez: Ziegler Katalin – Velkey VirágDalszöveg: Csík CsabaKorrepetítor: Ligeti Éva \nForgalmazó: New Season Produkciós Iroda
URL:https://szentendreiteatrum.hu/event/oreglanyok-zenes-komedia/
LOCATION:Hamvas Béla Pest Megyei Könyvtár színházterem\, Pátriárka utca 7.\, Szentendre\, Pest\, 2000\, Magyarország
CATEGORIES:Előadás,Kiemelt,Vígjáték,Zene
ATTACH;FMTTYPE=image/jpeg:https://szentendreiteatrum.hu/wp-content/uploads/2025/09/Oreglanyok-jo.jpg
GEO:47.6694699;19.074893
X-APPLE-STRUCTURED-LOCATION;VALUE=URI;X-ADDRESS=Hamvas Béla Pest Megyei Könyvtár színházterem Pátriárka utca 7. Szentendre Pest 2000 Magyarország;X-APPLE-RADIUS=500;X-TITLE=Pátriárka utca 7.:geo:19.074893,47.6694699
END:VEVENT
BEGIN:VEVENT
DTSTART;TZID=UTC:20251021T190000
DTEND;TZID=UTC:20251021T210000
DTSTAMP:20260426T021111
CREATED:20250916T190821Z
LAST-MODIFIED:20250916T190821Z
UID:10001195-1761073200-1761080400@szentendreiteatrum.hu
SUMMARY:Vinnai András – TITKOSSZOLGÁK
DESCRIPTION:Valami bűzlik a titkosszolgálat irodájában\, szellőztetni viszont nem szokás az ilyesféle helyeken. Valaki próbált ugyan ablakot nyitni\, de épp ebből lett a baj\, mert azon a bizonyos ablakon keresztül kiesett egy… Innen nem folytathatjuk\, mert az ügy nemzetbiztonsági okokra hivatkozva titkosítva lett ezerötszázesztendőre előremenőleg. De megnyugodhatnak. Nem kell kivárniuk. A Loupe Színházi Társulás fizető nézői ismét kiváltságos helyzetben érezhetik magukat\, ugyanis bepillantást nyerhetnek azokon a csukott ablakokon keresztül. \nTörténetünk főhőse egy Nő. Senki sem tudja honnan jött\, mit akar\, és milyen kapcsolatai vannak. Egyszer csak felbukkant az első emeleti kihallgatóban. A titkosszolgák között persze azonnal elindulnak a találgatások: Talán legfelülről jött\, hogy felkutassa a botrány felelőseit? Vagy épp\, hogy alulról érkezett\, ésnem más\, mint a nép álruhába bújt gyermeke? Esetleg egy belevaló tényfeltúró újságíró\, aki túl sok politikai thrillert nézett a Netflixen? Egy biztos: a titkosszolgálat dolgozóinak van félnivalójuk tőle\, akárki legyen is az.Főhősünk alaposan felkavarja a poshadt állóvizet az iroda mérgező vizesballonjában. Fejek hullanak\, pozíciók maradnak betöltetlenül\, hogy aztán átgondolatlan előléptetések okozzanak egyre nagyobb kavarodást a hivatal működésében. A hierarchia egyre jobban összekeveredik\, és már az sem egyértelmű\, hogy kinek van jogosultsága jogosultságokat osztogatni. \nAz abszurdba hajló történetünk korunk dezinformációs társadalmának nyomja fel a görbe tükröt a legkényesebb testnyílásába. A kémtörténetek romantikáját visszasíró nonszensz vígjáték arról fantáziál\, mi is történhet valójában azokban a titkos szobákban\, ahová halandó ember sohasem kaphat belépési engedélyt. \nJátsszák: Lovas Rozi\, Molnár Áron\, Mohai Tamás\, Rainer-Micsinyei Nóra\, Rusznák András \nZene: Vinnai AndrásDíszlettervező: Fekete AnnaJelmeztervező: Kaszás NinaFénytervező: Mohácsi JúliaA rendező munkatársa: Papp LetíciaRendező: Horváth János Antal \nJEGYEK\nORSZÁGOS BÉRLET
URL:https://szentendreiteatrum.hu/event/vinnai-andras-titkosszolgak/
LOCATION:Hamvas Béla Pest Megyei Könyvtár színházterem\, Pátriárka utca 7.\, Szentendre\, Pest\, 2000\, Magyarország
CATEGORIES:Előadás,Kiemelt,kortárs színdarab
ATTACH;FMTTYPE=image/jpeg:https://szentendreiteatrum.hu/wp-content/uploads/2025/09/514248445_719215927547966_5498146623997782726_n.jpg
GEO:47.6694699;19.074893
X-APPLE-STRUCTURED-LOCATION;VALUE=URI;X-ADDRESS=Hamvas Béla Pest Megyei Könyvtár színházterem Pátriárka utca 7. Szentendre Pest 2000 Magyarország;X-APPLE-RADIUS=500;X-TITLE=Pátriárka utca 7.:geo:19.074893,47.6694699
END:VEVENT
BEGIN:VEVENT
DTSTART;TZID=UTC:20251022T190000
DTEND;TZID=UTC:20251022T203000
DTSTAMP:20260426T021111
CREATED:20251013T095848Z
LAST-MODIFIED:20251014T151607Z
UID:10001204-1761159600-1761165000@szentendreiteatrum.hu
SUMMARY:ELMARAD! 50+ ÉVES TÁNCDALFESZTIVÁL GYERMEKEI Delhusa Gjon koncert\, vendég: Szűcs Judith
DESCRIPTION:A koncert technikai okok miatt ELMARAD! \nAz online vásárolt jegyeket az Interticket Kft. automatikusan visszaváltja és a jegy árát visszatéríti.\nA személyesen vásárolt jegyek visszaváltására a vásárlás helyén van lehetőség\, november 5-ig.\n\nDelhusa Gjon 50 éves jubileumi önálló estet tart Szentendrén\, melyre legrégebbi kolléganőjét\, Szűcs Judithot és zenész barátait hívta meg. \n\nAz 1971-es fesztiváltól napjainkig válogatta legszebb szerzeményeit e koncertre\, melyeket élő akusztikus hangzással ad elő a még ma is fiatalos hangú énekes.\nSztorikat mesél pályájáról és felidézi legszebb dalait.\nAz előadás hossza: kb. 90 perc\nJegyár: 7000 Ft
URL:https://szentendreiteatrum.hu/event/50-eves-tancdalfesztival-gyermekei-delhusa-gjon-koncert-vendeg-szucs-judith/
LOCATION:Hamvas Béla Pest Megyei Könyvtár színházterem\, Pátriárka utca 7.\, Szentendre\, Pest\, 2000\, Magyarország
CATEGORIES:Kiemelt,Könnyűzene,Senior,Zene,Zene, koncert
ATTACH;FMTTYPE=image/jpeg:https://szentendreiteatrum.hu/wp-content/uploads/2025/10/Delhusa-2.jpg
GEO:47.6694699;19.074893
X-APPLE-STRUCTURED-LOCATION;VALUE=URI;X-ADDRESS=Hamvas Béla Pest Megyei Könyvtár színházterem Pátriárka utca 7. Szentendre Pest 2000 Magyarország;X-APPLE-RADIUS=500;X-TITLE=Pátriárka utca 7.:geo:19.074893,47.6694699
END:VEVENT
BEGIN:VEVENT
DTSTART;TZID=UTC:20251026T160000
DTEND;TZID=UTC:20251026T170000
DTSTAMP:20260426T021111
CREATED:20250916T190227Z
LAST-MODIFIED:20250916T190227Z
UID:10001193-1761494400-1761498000@szentendreiteatrum.hu
SUMMARY:A PIROS ESERNYŐ Csetényi Anikó és Presser Gábor zenés mesejátéka
DESCRIPTION:Pirkó\, Pumi\, Róka Rudi és Tapsi kalandjai életre kelnek… JÖN A PIROS ESERNYŐ című zenés mesejáték!2025 októberében különleges gyerekdarab debütál a Szentendrei Teátrumban.\nA PIROS ESERNYŐ Csetényi Anikó mesejátéka\, zenéjét Presser Gábor szerezte.Az előadás létrehozója a Lepkegyűjtő Produkció.Koprodukciós partnere a Szentendrei Teátrum.\nPirkó\, a kiscica izgatottan várja születésnapját.A torta mellé egy csodálatos piros esernyővel is megajándékozzák a szülei. Rögtön ki is próbálná – ám sehol egy felhő\, hétágra süt a nap. Azért biztos\, ami biztos\, mégis magával viszi a piros esernyőt\, hogy legalább megmutassa barátainak.Jól is teszi – hamarosan kiderül\, mi mindenre jó egy ilyen szép esernyő. S mire a nap véget ér\, új barátokra is szert tesz\, összeköti az erdő különféle lakóit\, és azt is megtapasztalja\, milyen jó másokon segíteni.\nPresser Gábor és Csetényi Anikó kalandokban bővelkedő\, zenés mesejátékát – Lőkös Ildikó szellemes átdolgozásában – 5 év fölötti gyerekeknek és szüleiknek szánjuk: igazi családi színház a Kolibri volt társulati tagjainak előadásában.\nSzereplők: Alexics Rita Erdei Júlia Krausz Gábor Nizsai Dániel Nyirkó Krisztina Rácz Kármen Rácz KrisztaA rendező munkatársa Gyevi-BÍró Eszter.\nA fülbemászó dalok élő zenével csendülnek fel Darvas Bence hangszerelésében.Az előadás látványvilágát és a csodálatos bábokat Michac Gábor tervezte.A sok derűs pillanatot és váratlan fordulatot ígérő produkció rendezője Vidovszky György.Egy „egyszerű” tárgy (mint egy piros esernyő) is hordozhat különleges értéket\, ha szeretettel használjuk.Pirkó piros esernyője csodákra képes\, segít a bajba jutottakon\, legyőzi a gonoszokat\, barátságok köttetnek a segítségével. Ehhez pedig nem kell más\, mint kíváncsiság\, együttérzés\, segíteni vágyás és hit abban\, hogy többre vagyunk képesek\, mint azt elsőre gondolnánk…\n\nA Lepkegyűjtő Produkció és a Szentendrei Teátrum közös produkciója. \n\nAz előadás hossza: kb. 60 perc\nJegyár: 5990 Ft – 7990 Ft
URL:https://szentendreiteatrum.hu/event/a-piros-esernyo-csetenyi-aniko-es-presser-gabor-zenes-mesejateka-2/
LOCATION:Hamvas Béla Pest Megyei Könyvtár színházterem\, Pátriárka utca 7.\, Szentendre\, Pest\, 2000\, Magyarország
CATEGORIES:Előadás,Gyerek,Gyerekprogram,Kiemelt
ATTACH;FMTTYPE=image/jpeg:https://szentendreiteatrum.hu/wp-content/uploads/2025/09/545516402_1351337406996408_3544229417490438351_n-scaled.jpg
GEO:47.6694699;19.074893
X-APPLE-STRUCTURED-LOCATION;VALUE=URI;X-ADDRESS=Hamvas Béla Pest Megyei Könyvtár színházterem Pátriárka utca 7. Szentendre Pest 2000 Magyarország;X-APPLE-RADIUS=500;X-TITLE=Pátriárka utca 7.:geo:19.074893,47.6694699
END:VEVENT
BEGIN:VEVENT
DTSTART;TZID=UTC:20251028T190000
DTEND;TZID=UTC:20251028T210000
DTSTAMP:20260426T021111
CREATED:20250916T192451Z
LAST-MODIFIED:20251020T101840Z
UID:10001196-1761678000-1761685200@szentendreiteatrum.hu
SUMMARY:A FAJOK EREDETE vígjáték
DESCRIPTION:Játsszák: Mucsi Zoltán\, Thuróczy Szabolcs\, Katona László \nA színészek improvizációinak felhasználásávalÍrta: Tasnádi István Rendező: Dömötör Tamás \n„Tasnádi István keltetőjében született opusz evolúciós problémákat feszeget a csirke-lét szemszögéből. Leleményes jelenetek mutatják be az emberré válás stációit\, a társas együttműködés\, a nyelv- és mítoszteremtés\, a táplálkozás alakulását. Van cirkuszi attrakció\, állatszám és börleszk szituáció is\, de a permanens hahotázás közben időnként csak elszorul a szív. Jutalom-játék három színésznek\, szórakoztató ajándék a nézőnek\, a mélyben azonban fenyegetően leselkedik a félelmetes valóság.” (részlet egy kritikából) \nA Nézőművészeti Kft. előadása\, mely elnyerte a 2011-es Vidor Fesztivál fődíját\, valamint a Port.hu különdíját is!
URL:https://szentendreiteatrum.hu/event/a-fajok-eredete-vigjatek/
LOCATION:Hamvas Béla Pest Megyei Könyvtár színházterem\, Pátriárka utca 7.\, Szentendre\, Pest\, 2000\, Magyarország
CATEGORIES:Előadás,Kiemelt,kortárs színdarab,Vígjáték
ATTACH;FMTTYPE=image/jpeg:https://szentendreiteatrum.hu/wp-content/uploads/2025/09/533226322_1289029359679937_7881380843391075505_n.jpg
GEO:47.6694699;19.074893
X-APPLE-STRUCTURED-LOCATION;VALUE=URI;X-ADDRESS=Hamvas Béla Pest Megyei Könyvtár színházterem Pátriárka utca 7. Szentendre Pest 2000 Magyarország;X-APPLE-RADIUS=500;X-TITLE=Pátriárka utca 7.:geo:19.074893,47.6694699
END:VEVENT
END:VCALENDAR