BEGIN:VCALENDAR
VERSION:2.0
PRODID:-//Szentendrei teátrum - ECPv6.15.14//NONSGML v1.0//EN
CALSCALE:GREGORIAN
METHOD:PUBLISH
X-WR-CALNAME:Szentendrei teátrum
X-ORIGINAL-URL:https://szentendreiteatrum.hu
X-WR-CALDESC:Események Szentendrei teátrum
REFRESH-INTERVAL;VALUE=DURATION:PT1H
X-Robots-Tag:noindex
X-PUBLISHED-TTL:PT1H
BEGIN:VTIMEZONE
TZID:UTC
BEGIN:STANDARD
TZOFFSETFROM:+0000
TZOFFSETTO:+0000
TZNAME:UTC
DTSTART:20250101T000000
END:STANDARD
END:VTIMEZONE
BEGIN:VEVENT
DTSTART;TZID=UTC:20260414T190000
DTEND;TZID=UTC:20260414T201000
DTSTAMP:20260425T192306
CREATED:20260220T220758Z
LAST-MODIFIED:20260408T104808Z
UID:10001230-1776193200-1776197400@szentendreiteatrum.hu
SUMMARY:ÚJ IDŐPONT: ÁPR. 14. 19:00 KONCZ ZSUZSA KONCERT
DESCRIPTION:TISZTELT NÉZÓINK! A MÁRCIUS 26-I KONCERT BETEGSÉG MIATT ELMARAD. AZ ÚJ IDŐPONT: ÁPRILIS 14. 19:00\nA MEGVÁLTOTT JEGYEK ÉRVÉNYESEK AZ ÁPRILISI IDŐPONTRA IS. \n  \nJEGYEK ONLINE KAPHATÓK IDE KATTINTVA \nVAGY HA VAN MÉG JEGY\, AKKOR AZ ELŐADÁS ELŐTT\, A HELYSZÍNEN. \nKoncz Zsuzsa igazi állócsillag a magyar popzene egén – dalai évtizedek óta szólnak mindannyiunkhoz\, mindig aktuálisan\, mindig a mához kapcsolódva. Nem csupán legenda\, hanem élő\, közvetlen és őszinte előadó\, aki koncertjein most is ugyanazzal a szenvedéllyel és hitelességgel énekel\, mint pályája kezdetén. \nA szentendrei közönség most egy felejthetetlen estére készülhet\, ahol felcsendülnek a régi\, nagy kedvencek és az új dalok is – mindazok\, amelyek miatt Koncz Zsuzsa a magyar zenei élet egyik legnagyobb ikonja lett. \nEgy est\, amely tele lesz érzelemmel\, emlékekkel és örök érvényű üzenetekkel – Koncz Zsuzsa dalai újra összekötnek minket. \nA Szervező és a Produkció fenntartja a jogot mindennemű változtatással kapcsolatban. \nA koncert hossza: kb. 70 perc\nJegyár: 15900 Ft \nJEGYEK ONLINE KAPHATÓK IDE KATTINTVA. \nVAGY HA VAN MÉG JEGY\, AKKOR AZ ELŐADÁS ELŐTT\, A HELYSZÍNEN. \nERRE A PRODUKCIÓRA NEM ÉRVÉNYES A SZÉP KÁRTYA VÁSÁRLÁSI LEHETŐSÉG.
URL:https://szentendreiteatrum.hu/event/koncz-zsuzsa-koncert/
LOCATION:Pest
CATEGORIES:Kiemelt,Könnyűzene,Zene,Zene, koncert
ATTACH;FMTTYPE=image/jpeg:https://szentendreiteatrum.hu/wp-content/uploads/2025/12/Koncz-Zsuzsa.jpg
END:VEVENT
END:VCALENDAR