BEGIN:VCALENDAR
VERSION:2.0
PRODID:-//Szentendrei teátrum - ECPv6.15.14//NONSGML v1.0//EN
CALSCALE:GREGORIAN
METHOD:PUBLISH
X-WR-CALNAME:Szentendrei teátrum
X-ORIGINAL-URL:https://szentendreiteatrum.hu
X-WR-CALDESC:Események Szentendrei teátrum
REFRESH-INTERVAL;VALUE=DURATION:PT1H
X-Robots-Tag:noindex
X-PUBLISHED-TTL:PT1H
BEGIN:VTIMEZONE
TZID:UTC
BEGIN:STANDARD
TZOFFSETFROM:+0000
TZOFFSETTO:+0000
TZNAME:UTC
DTSTART:20240101T000000
END:STANDARD
END:VTIMEZONE
BEGIN:VEVENT
DTSTART;TZID=UTC:20251214T143000
DTEND;TZID=UTC:20251214T160000
DTSTAMP:20260425T235543
CREATED:20250910T121906Z
LAST-MODIFIED:20250916T185431Z
UID:10001189-1765722600-1765728000@szentendreiteatrum.hu
SUMMARY:DIÓTÖRŐ klasszikus mese-show újragondolva
DESCRIPTION:A történet kezdetén megismerhetjük Masát\, Mását és Lujzát\, a három testvért\, akik a szeretet ünnepén kiosonnak a nevelőintézetből és az utcán az embereket nézik\, ahogy készülődnek karácsony ünnepére. \nMikor kiürül az utca és a gyerekek is visszatérnek az intézet falai közé\, az angyalok Drosselmeier főangyal vezetésével összegyűjtik az intézetnek szánt ajándékokat és a nagyterembe varázsolják a mesés színekben pompázó karácsonyfa alá. Drosselmeier varázslatos műsorral kápráztatja el a gyerekeket és egy különleges Diótörő-figurát ajándékoz Masának. Minden gyermek az ajándékával indul el aludni. Masa álmában a Diótörő-figura megelevenedik és megfutamítja a rájuk támadó Egérkirályt és hadseregét. A győztes csata után magával viszi a kislányt a mesék birodalmába. \nA történet egészét áthatja a karácsonyi hangulat\, melyből az őszinte szeretet tükröződik. \n \nA klasszikus történetet átdolgozta és színpadra alkalmazta: 4 for OneDíszlet: Magyar RomanaZene: Csajkovszkij – Weisz NándorKoreográfia: 4 for One(Sárközi Gyula\, Jurányi Patrick\, Kovács Zsolt\, Kováts Gergely Csanád)Smink: PG (Pál Gergely) \nElőadják:a Sárközi Gyula Társulat tagjai\, valamint a Madách Musical Tánc- és Színművészeti Iskola és Szakgimnázium növendékei \nA szereplők létszáma 80 fő.Kb. 90 perc\, szünet nélkül.
URL:https://szentendreiteatrum.hu/event/diotoro-klasszikus-mese-show-ujragondolva/
LOCATION:Hamvas Béla Pest Megyei Könyvtár Szinházterme\, Pátriarka u. 7.\, Szentendre\, Pest\, 2000\, Magyarország
CATEGORIES:Előadás,Gyerek,Gyerekprogram,Kiemelt,Tánc
ATTACH;FMTTYPE=image/jpeg:https://szentendreiteatrum.hu/wp-content/uploads/2025/09/Nutcracker_SGY_Company_01-scaled.jpg
END:VEVENT
END:VCALENDAR