BEGIN:VCALENDAR
VERSION:2.0
PRODID:-//Szentendrei teátrum - ECPv6.15.14//NONSGML v1.0//EN
CALSCALE:GREGORIAN
METHOD:PUBLISH
X-WR-CALNAME:Szentendrei teátrum
X-ORIGINAL-URL:https://szentendreiteatrum.hu
X-WR-CALDESC:Események Szentendrei teátrum
REFRESH-INTERVAL;VALUE=DURATION:PT1H
X-Robots-Tag:noindex
X-PUBLISHED-TTL:PT1H
BEGIN:VTIMEZONE
TZID:UTC
BEGIN:STANDARD
TZOFFSETFROM:+0000
TZOFFSETTO:+0000
TZNAME:UTC
DTSTART:20240101T000000
END:STANDARD
END:VTIMEZONE
BEGIN:VEVENT
DTSTART;TZID=UTC:20251213T110000
DTEND;TZID=UTC:20251213T120000
DTSTAMP:20260426T000637
CREATED:20251127T183558Z
LAST-MODIFIED:20251127T185800Z
UID:10001016-1765623600-1765627200@szentendreiteatrum.hu
SUMMARY:GRYLLUS VILMOS: NÓTÁS MIKULÁS családi koncert / dec. 13. 11h
DESCRIPTION:Gryllus Vilmos ikonikus Mikulás műsora. \n„Nótás Mikulás\, flótás\, pikulás\,\njön a sok jóval\, hegedű\, szóval.\nCsellón muzsikál\, csizmám tele már\,\nmosolyog\, hallgat\, haza úgy ballag.” \nIdőtartam: 60 perc\, szünet nélkül\nJegyár: 4000 Ft
URL:https://szentendreiteatrum.hu/event/gryllus-vilmos-notas-mikulas-csaladi-koncert-dec-13-11h/
LOCATION:Hamvas Béla Pest Megyei Könyvtár színházterem\, Pátriárka utca 7.\, Szentendre\, Pest\, 2000\, Magyarország
CATEGORIES:Előadás,Gyerek,Gyerekprogram,Kiemelt,Zene,Zene, koncert
ATTACH;FMTTYPE=image/jpeg:https://szentendreiteatrum.hu/wp-content/uploads/2025/11/gryllusvilmos.jpg
GEO:47.6694699;19.074893
X-APPLE-STRUCTURED-LOCATION;VALUE=URI;X-ADDRESS=Hamvas Béla Pest Megyei Könyvtár színházterem Pátriárka utca 7. Szentendre Pest 2000 Magyarország;X-APPLE-RADIUS=500;X-TITLE=Pátriárka utca 7.:geo:19.074893,47.6694699
END:VEVENT
BEGIN:VEVENT
DTSTART;TZID=UTC:20251213T150000
DTEND;TZID=UTC:20251213T160000
DTSTAMP:20260426T000637
CREATED:20251127T184411Z
LAST-MODIFIED:20251127T185909Z
UID:10001017-1765638000-1765641600@szentendreiteatrum.hu
SUMMARY:GRYLLUS VILMOS: NÓTÁS MIKULÁS családi koncert / dec. 13. 15h
DESCRIPTION:Gryllus Vilmos ikonikus Mikulás műsora. \n„Nótás Mikulás\, flótás\, pikulás\,\njön a sok jóval\, hegedű\, szóval.\nCsellón muzsikál\, csizmám tele már\,\nmosolyog\, hallgat\, haza úgy ballag.” \nIdőtartam: 60 perc\, szünet nélkül\nJegyár: 4000 Ft
URL:https://szentendreiteatrum.hu/event/gryllus-vilmos-notas-mikulas-csaladi-koncert-dec-13-15h/
LOCATION:Hamvas Béla Pest Megyei Könyvtár színházterem\, Pátriárka utca 7.\, Szentendre\, Pest\, 2000\, Magyarország
CATEGORIES:Előadás,Gyerek,Gyerekprogram,Kiemelt,Zene,Zene, koncert
ATTACH;FMTTYPE=image/jpeg:https://szentendreiteatrum.hu/wp-content/uploads/2025/11/gryllusvilmos.jpg
GEO:47.6694699;19.074893
X-APPLE-STRUCTURED-LOCATION;VALUE=URI;X-ADDRESS=Hamvas Béla Pest Megyei Könyvtár színházterem Pátriárka utca 7. Szentendre Pest 2000 Magyarország;X-APPLE-RADIUS=500;X-TITLE=Pátriárka utca 7.:geo:19.074893,47.6694699
END:VEVENT
END:VCALENDAR