BEGIN:VCALENDAR
VERSION:2.0
PRODID:-//Szentendrei teátrum - ECPv6.15.14//NONSGML v1.0//EN
CALSCALE:GREGORIAN
METHOD:PUBLISH
X-WR-CALNAME:Szentendrei teátrum
X-ORIGINAL-URL:https://szentendreiteatrum.hu
X-WR-CALDESC:Események Szentendrei teátrum
REFRESH-INTERVAL;VALUE=DURATION:PT1H
X-Robots-Tag:noindex
X-PUBLISHED-TTL:PT1H
BEGIN:VTIMEZONE
TZID:UTC
BEGIN:STANDARD
TZOFFSETFROM:+0000
TZOFFSETTO:+0000
TZNAME:UTC
DTSTART:20240101T000000
END:STANDARD
END:VTIMEZONE
BEGIN:VEVENT
DTSTART;TZID=UTC:20251209T180000
DTEND;TZID=UTC:20251209T191000
DTSTAMP:20260425T235542
CREATED:20251127T180808Z
LAST-MODIFIED:20251127T181025Z
UID:10001014-1765303200-1765307400@szentendreiteatrum.hu
SUMMARY:VéNégy-Zenevarázslat: LÉLEKHÍD klasszikus zenei mesejáték
DESCRIPTION:Klasszikus zenei mesejáték 70 percben \nElbűvölő zenés produkció gyermekeknek és felnőtteknek\, hiszen mindannyiunkban ott él a zene varázsa\, csak meg kell találnunk a hozzá vezető utat. \nAz esemény INGYENES\, de előzetes regisztrációhoz kötött! \nRegisztráció https://tinyurl.com/3pff9uur \nKépzeld el\, hogy egyetlen pillanat alatt a zongora belsejében találod magad\, ahol a hangok életre kelnek\, a dallamok mesélnek\, és a zene birodalma végtelen lehetőségeket rejt! \nEbben a különleges előadásban Violin\, a kamasz kislány véletlenül beleesik a zongorába – és ezzel kezdetét veszi egy varázslatos utazás! Főszereplőnk találkozik a zongoristával\, aki nemcsak a hangszerek titkait fedi fel előtte\, hanem a zene szépségét és erejét is megmutatja neki – és a közönségnek egyaránt\, miközben elkalauzolja őt a zene csodás birodalmában. \nMiközben a zene szárnyán repülünk\, ez a csodákkal teli történet segít saját belső világunkat is felfedezni. \nAz est során nemcsak a hazai hanem a nemzetközi – elsősorban – cseh\, szlovák\, lengyel – zeneirodalomból is merítünk. \nRENDEZŐ: Kis Domonkos Márk (Jászai Mari-díjas) \nZongorista: Várnagy Andrea (Liszt Ferenc-díjas zongoraművész\, Érdemes művész)Violin: Farkas LauraKoreográfus: Grecsó Zoltán \nAz előadás hossza: 70 perc\nJegyár: az esemény ingyenes\, regisztrációhoz kötött  \nAz esemény létejöttét támogatja a Nemzeti Kulturális Támogatáskezelő.
URL:https://szentendreiteatrum.hu/event/venegy-zenevarazslat-lelekhid-klasszikus-zenei-mesejatek/
LOCATION:Hamvas Béla Pest Megyei Könyvtár színházterem\, Pátriárka utca 7.\, Szentendre\, Pest\, 2000\, Magyarország
CATEGORIES:Előadás,Gyerek,Gyerekprogram,Kulturális előadás,Tánc,Zene,Zene, koncert
ATTACH;FMTTYPE=image/jpeg:https://szentendreiteatrum.hu/wp-content/uploads/2025/11/Lelkekhid-dec.-9.jpg
GEO:47.6694699;19.074893
X-APPLE-STRUCTURED-LOCATION;VALUE=URI;X-ADDRESS=Hamvas Béla Pest Megyei Könyvtár színházterem Pátriárka utca 7. Szentendre Pest 2000 Magyarország;X-APPLE-RADIUS=500;X-TITLE=Pátriárka utca 7.:geo:19.074893,47.6694699
END:VEVENT
END:VCALENDAR