BEGIN:VCALENDAR
VERSION:2.0
PRODID:-//Szentendrei teátrum - ECPv6.15.14//NONSGML v1.0//EN
CALSCALE:GREGORIAN
METHOD:PUBLISH
X-WR-CALNAME:Szentendrei teátrum
X-ORIGINAL-URL:https://szentendreiteatrum.hu
X-WR-CALDESC:Események Szentendrei teátrum
REFRESH-INTERVAL;VALUE=DURATION:PT1H
X-Robots-Tag:noindex
X-PUBLISHED-TTL:PT1H
BEGIN:VTIMEZONE
TZID:UTC
BEGIN:STANDARD
TZOFFSETFROM:+0000
TZOFFSETTO:+0000
TZNAME:UTC
DTSTART:20240101T000000
END:STANDARD
END:VTIMEZONE
BEGIN:VEVENT
DTSTART;TZID=UTC:20251208T150000
DTEND;TZID=UTC:20251208T170000
DTSTAMP:20260426T000639
CREATED:20250929T131033Z
LAST-MODIFIED:20250929T132207Z
UID:10001201-1765206000-1765213200@szentendreiteatrum.hu
SUMMARY:VUK musical 10 éven felüli gyerekeknek (stroboszkópot tartalmaz)
DESCRIPTION:Zene: SZEMENYEI JÁNOS I szöveg és dalszöveg: GYŐREI ZSOLT és SCHLACHTOVSZKY CSABA \nSZEREPOSZTÁS Vuk:  Jenővári Miklós I Kölyök Vuk: Gyetvai Martin I Nyau: Horváth Mónika/Sári Éva I Karak: Barát Attila I Csele: Tóth Angelika I Sut: Sándor Dávid I Gúnár: Ekanem Bálint I Tojó: Békefi Viktória/Foki Veronika I Vahúr: Mező Zoltán I Kag/Simabőrű: Zöld Csaba I Íny/Margit: Kecskés Tímea I Barna bácsi: Németh Gábor I Csufi: Jencski Zoltán \nALKOTÓK Díszlettervező: Halász G. Péter I Jelmeztervező: Weigand Lívia I Zenei vezető: Zádori László I Koreográfus: Sándor Dávid\, Zádori Anita I Animáció: Kiss Jenő I Hangmérnök: Molnár Zoltán I Karmester: Zádori László\, ifj. Leszkovszki Albin I Rendezőasszisztens: Nagy Attila I Rendező: Hencz György \nAz előadásban\, valamint a plakátokon\, szórólapokon és hirdetéseken Dargay Attila eredeti rajzai láthatóak\, I N. Csathó Gizella eredeti háttérgrafikáinak felhasználásával. \nAz előadás hossza: 2 óra\, egy szünettel\nJegyár: 4900 Ft
URL:https://szentendreiteatrum.hu/event/vuk-musical-10-even-feluli-gyerekeknek-stroboszkopot-tartalmaz/
LOCATION:Hamvas Béla Pest Megyei Könyvtár színházterem\, Pátriárka utca 7.\, Szentendre\, Pest\, 2000\, Magyarország
CATEGORIES:Előadás,Gyerek,Gyerekprogram,Kiemelt,Színház
ATTACH;FMTTYPE=image/jpeg:https://szentendreiteatrum.hu/wp-content/uploads/2025/09/VUK.jpg
GEO:47.6694699;19.074893
X-APPLE-STRUCTURED-LOCATION;VALUE=URI;X-ADDRESS=Hamvas Béla Pest Megyei Könyvtár színházterem Pátriárka utca 7. Szentendre Pest 2000 Magyarország;X-APPLE-RADIUS=500;X-TITLE=Pátriárka utca 7.:geo:19.074893,47.6694699
END:VEVENT
END:VCALENDAR