BEGIN:VCALENDAR
VERSION:2.0
PRODID:-//Szentendrei teátrum - ECPv6.15.14//NONSGML v1.0//EN
CALSCALE:GREGORIAN
METHOD:PUBLISH
X-ORIGINAL-URL:https://szentendreiteatrum.hu
X-WR-CALDESC:Események Szentendrei teátrum
REFRESH-INTERVAL;VALUE=DURATION:PT1H
X-Robots-Tag:noindex
X-PUBLISHED-TTL:PT1H
BEGIN:VTIMEZONE
TZID:UTC
BEGIN:STANDARD
TZOFFSETFROM:+0000
TZOFFSETTO:+0000
TZNAME:UTC
DTSTART:20240101T000000
END:STANDARD
END:VTIMEZONE
BEGIN:VEVENT
DTSTART;TZID=UTC:20251205T190000
DTEND;TZID=UTC:20251205T203000
DTSTAMP:20260425T224718
CREATED:20251127T174629Z
LAST-MODIFIED:20251127T174718Z
UID:10001012-1764961200-1764966600@szentendreiteatrum.hu
SUMMARY:TÉLI MULATSÁG - a Szentendre Táncegyüttes gálaműsora
DESCRIPTION:December 5-én\, pénteken 19 órától Téli mulatság címmel a Szentendre Táncegyüttes mutatja be gálaműsorát a Hamvas Béla Pest Megyei Könyvtár színháztermében (Pátriárka u. 7.)\, mely Szentendre város életében minden évben elmaradhatatlan esemény. \nA nemrégiben fennállásának 40. évfordulóját ünneplő táncegyüttes sokszínű\, fergeteges táncával a Bazseva zenekar csodálatos muzsikájával\, lesz teljes az adventi készülődés. \nMűvészeti vezetők:Kocsis Enikő Harangozó Gyula-díjas ésFitos Dezső a Népművészet Ifjú Mestere\, Harangozó Gyula-díjas\, Érdemes Művész \nMűvészeti asszisztensek:Németh Eszter és Östör Ákos\, a Fitos Dezső Társulat táncművészei \nAz előadás hossza: kb. 90 perc\nJegyár: 4000 Ft
URL:https://szentendreiteatrum.hu/event/teli-mulatsag-a-szentendre-tancegyuttes-galamusora/
LOCATION:Hamvas Béla Pest Megyei Könyvtár színházterem\, Pátriárka utca 7.\, Szentendre\, Pest\, 2000\, Magyarország
CATEGORIES:Előadás,Folklór,Kiemelt,Tánc
ATTACH;FMTTYPE=image/jpeg:https://szentendreiteatrum.hu/wp-content/uploads/2025/11/Teli-mulatsag.jpg
GEO:47.6694699;19.074893
X-APPLE-STRUCTURED-LOCATION;VALUE=URI;X-ADDRESS=Hamvas Béla Pest Megyei Könyvtár színházterem Pátriárka utca 7. Szentendre Pest 2000 Magyarország;X-APPLE-RADIUS=500;X-TITLE=Pátriárka utca 7.:geo:19.074893,47.6694699
END:VEVENT
END:VCALENDAR