BEGIN:VCALENDAR
VERSION:2.0
PRODID:-//Szentendrei teátrum - ECPv6.15.14//NONSGML v1.0//EN
CALSCALE:GREGORIAN
METHOD:PUBLISH
X-ORIGINAL-URL:https://szentendreiteatrum.hu
X-WR-CALDESC:Események Szentendrei teátrum
REFRESH-INTERVAL;VALUE=DURATION:PT1H
X-Robots-Tag:noindex
X-PUBLISHED-TTL:PT1H
BEGIN:VTIMEZONE
TZID:UTC
BEGIN:STANDARD
TZOFFSETFROM:+0000
TZOFFSETTO:+0000
TZNAME:UTC
DTSTART:20240101T000000
END:STANDARD
END:VTIMEZONE
BEGIN:VEVENT
DTSTART;TZID=UTC:20251129T170000
DTEND;TZID=UTC:20251129T183000
DTSTAMP:20260426T031039
CREATED:20251127T173404Z
LAST-MODIFIED:20251127T173829Z
UID:10001010-1764435600-1764441000@szentendreiteatrum.hu
SUMMARY:A VUJICSICS EGYÜTTES JÓTÉKONYSÁGI KONCERTJE  - 25. Levente gála
DESCRIPTION:25. alkalommal kerül megrendezésre a Levente gála. A jubileumi alkalmat a VUJICSICS EGYÜTTES jótékonysági koncertje aranyozza be. \nA Levente Alapítvány a befolyt összegből a Vujicsics Tihamér Zeneiskola növendékeit támogatja a Levente-díj formájában. \nAz előadás hossza: kb. 90 perc \nJegyár: 6000 Ft \n 
URL:https://szentendreiteatrum.hu/event/a-vujicsics-egyuttes-jotekonysagi-koncertje-25-levente-gala/
LOCATION:Hamvas Béla Pest Megyei Könyvtár színházterem\, Pátriárka utca 7.\, Szentendre\, Pest\, 2000\, Magyarország
CATEGORIES:Előadás,Kiemelt,Zene,Zene, koncert
ATTACH;FMTTYPE=image/jpeg:https://szentendreiteatrum.hu/wp-content/uploads/2025/11/Heti-ajanlo-Vujicsics.jpg
GEO:47.6694699;19.074893
X-APPLE-STRUCTURED-LOCATION;VALUE=URI;X-ADDRESS=Hamvas Béla Pest Megyei Könyvtár színházterem Pátriárka utca 7. Szentendre Pest 2000 Magyarország;X-APPLE-RADIUS=500;X-TITLE=Pátriárka utca 7.:geo:19.074893,47.6694699
END:VEVENT
END:VCALENDAR