BEGIN:VCALENDAR
VERSION:2.0
PRODID:-//Szentendrei teátrum - ECPv6.15.14//NONSGML v1.0//EN
CALSCALE:GREGORIAN
METHOD:PUBLISH
X-WR-CALNAME:Szentendrei teátrum
X-ORIGINAL-URL:https://szentendreiteatrum.hu
X-WR-CALDESC:Események Szentendrei teátrum
REFRESH-INTERVAL;VALUE=DURATION:PT1H
X-Robots-Tag:noindex
X-PUBLISHED-TTL:PT1H
BEGIN:VTIMEZONE
TZID:UTC
BEGIN:STANDARD
TZOFFSETFROM:+0000
TZOFFSETTO:+0000
TZNAME:UTC
DTSTART:20240101T000000
END:STANDARD
END:VTIMEZONE
BEGIN:VEVENT
DTSTART;TZID=UTC:20251123T170000
DTEND;TZID=UTC:20251123T183000
DTSTAMP:20260426T021027
CREATED:20251025T111031Z
LAST-MODIFIED:20251104T110850Z
UID:10001207-1763917200-1763922600@szentendreiteatrum.hu
SUMMARY:AKARTOK-E JÁTSZANI? zenés-verses Kosztolányi est
DESCRIPTION:Zenés-verses színházi játék Kosztolányi Dezső lírai és prózai szövegeinek felhasználásával. \nHajnali részegség\, Halotti beszéd\, egy novella\, némi játék. Játék a nyelvvel\, játék egy bábbal\, játék kortárs zenével. Fuvolával\, hárfával\, ütőhangszerekkel. Kosztolányi Dezső jól és kevésbé ismert műveiből válogattunk\, azt kovácsoltuk eggyé\, hogy egy játékos est keretében végigkalauzoljuk a nézőket valós életen és halálon\, generációkon – szülő–gyerek viszonyon\, háborún és vágyott békén\, emberi és létkérdéseken\, keresve Kosztolányi szövegeinek aktualitását\, mai visszhangját. \nAz előadást középiskolásoknak\, a 10-11. osztályos diákjai számára ajánljuk\, akik így egyedi módon ismerkedhetnek meg Kosztolányi költészetének szépségével\, miközben kortárs művészeti élmény részesei is lehetnek. \nAz elhangzó művekBarkochbaHajnali részegségTíz legszebb szóMostan színes tintákról álmodomA nyelvrőlShakespeare: Rómeó és Júlia – részlet (Kosztolányi Dezső fordítása)ÖcsémHalotti beszédA játék \nKözreműködikNizsai Dániel – színművész\, bábszínészVámosi-Nagy Zsuzsa – fuvola\, altfuvolaSzilágyi Kinga Katinka – hárfaHerboly László – ütőhangszerek \nAlkotókZene: Dobszay-Meskó IlonaElektronikus zene: Winkler BalázsBábterv és -kivitelezés: Nizsai DánielDramaturg: Mátrai Diána EszterRendező: Harangi Mária \nA nyitányt énekli Winkler Barna Áron \nJegyár: 3000 Ft
URL:https://szentendreiteatrum.hu/event/akartok-e-jatszani-zenes-verses-kosztolanyi-est/
LOCATION:Dunaparti Művelődési Ház – Barlang\, Duna korzó 18.\, Szentendre
CATEGORIES:Előadás,Irodalom,kortárs színdarab,Színház
ATTACH;FMTTYPE=image/jpeg:https://szentendreiteatrum.hu/wp-content/uploads/2025/10/akartok-e-jatszani-original-217908.jpg
GEO:47.6656532;19.0779925
X-APPLE-STRUCTURED-LOCATION;VALUE=URI;X-ADDRESS=Dunaparti Művelődési Ház – Barlang Duna korzó 18. Szentendre;X-APPLE-RADIUS=500;X-TITLE=Duna korzó 18.:geo:19.0779925,47.6656532
END:VEVENT
END:VCALENDAR