BEGIN:VCALENDAR
VERSION:2.0
PRODID:-//Szentendrei teátrum - ECPv6.15.14//NONSGML v1.0//EN
CALSCALE:GREGORIAN
METHOD:PUBLISH
X-ORIGINAL-URL:https://szentendreiteatrum.hu
X-WR-CALDESC:Események Szentendrei teátrum
REFRESH-INTERVAL;VALUE=DURATION:PT1H
X-Robots-Tag:noindex
X-PUBLISHED-TTL:PT1H
BEGIN:VTIMEZONE
TZID:UTC
BEGIN:STANDARD
TZOFFSETFROM:+0000
TZOFFSETTO:+0000
TZNAME:UTC
DTSTART:20240101T000000
END:STANDARD
END:VTIMEZONE
BEGIN:VEVENT
DTSTART;TZID=UTC:20251122T170000
DTEND;TZID=UTC:20251122T182000
DTSTAMP:20260426T021113
CREATED:20251021T203954Z
LAST-MODIFIED:20251021T203954Z
UID:10001205-1763830800-1763835600@szentendreiteatrum.hu
SUMMARY:DUNAKANYAR keserédes komédia egy részben - írta Karinthy Ferenc
DESCRIPTION:1968-ban vagyunk. Egy presszóba\, zárás előtt\, betér egy magányos férfi egy feketére. A kávéfőzőnő vonakodva bár\, de kiszolgálja. Beszélgetni kezdenek\, aztán meg flörtölni… \nLehet-e egyszeriben közünk egy ismeretlenhez egy véletlen találkozás során? Karinthy Ferenc figuráit a magány űzi\, bátortalan\, vagy éppen meghökkentő lépéseket tesznek egymás felé. Karinthy egyfelvonásosából forgattak már tévéjátékot – Hámori Ildikóval és Sztankay Istvánnal\, Szinetár Miklós rendezésében.\nDe Szentendrén is láthatta már a közönség\, a ’80-as években a Nosztalgia Kávéház miniszínpadán egy legendás előadásban\, Ruttkai Éva és Sztankay István játékával. \nA Szentendrei Teátrum 2021-ben\, szintén a városhoz és a Dunakanyarhoz sok szállal kötődő Szinetár Miklóst kérte fel\, hogy állítsa színre a népszerű művet\, Szinetár Dórával és Makranczi Zalánnal a két szerepben.\nAz előadás nemcsak Szentendrén megy a bemutató óta hatalmas sikerrel\, hanem a vendégjátékokon is. \nÍRTA Karinthy Ferenc\nSZEREPOSZTÁS Kávéfőzőnő: Szinetár Dóra I Vendég: Makranczi Zalán\nDíszlet: Fazekas Gyula I Jelmez: Velich Rita\nRENDEZŐ Szinetár Miklós \nA Szentendrei Teátrum produkciója. \nAz előadás hossza: kb. 80 perc\, szünet nélkül\nJegyár: 6500 Ft
URL:https://szentendreiteatrum.hu/event/dunakanyar-keseredes-komedia-egy-reszben-irta-karinthy-ferenc-3/
LOCATION:Hamvas Béla Pest Megyei Könyvtár színházterem\, Pátriárka utca 7.\, Szentendre\, Pest\, 2000\, Magyarország
CATEGORIES:Előadás,Kiemelt,Színház
ATTACH;FMTTYPE=image/jpeg:https://szentendreiteatrum.hu/wp-content/uploads/2025/05/KEZDOKEP-DUNAKANYAR.jpg
GEO:47.6694699;19.074893
X-APPLE-STRUCTURED-LOCATION;VALUE=URI;X-ADDRESS=Hamvas Béla Pest Megyei Könyvtár színházterem Pátriárka utca 7. Szentendre Pest 2000 Magyarország;X-APPLE-RADIUS=500;X-TITLE=Pátriárka utca 7.:geo:19.074893,47.6694699
END:VEVENT
END:VCALENDAR