BEGIN:VCALENDAR
VERSION:2.0
PRODID:-//Szentendrei teátrum - ECPv6.15.14//NONSGML v1.0//EN
CALSCALE:GREGORIAN
METHOD:PUBLISH
X-WR-CALNAME:Szentendrei teátrum
X-ORIGINAL-URL:https://szentendreiteatrum.hu
X-WR-CALDESC:Események Szentendrei teátrum
REFRESH-INTERVAL;VALUE=DURATION:PT1H
X-Robots-Tag:noindex
X-PUBLISHED-TTL:PT1H
BEGIN:VTIMEZONE
TZID:UTC
BEGIN:STANDARD
TZOFFSETFROM:+0000
TZOFFSETTO:+0000
TZNAME:UTC
DTSTART:20240101T000000
END:STANDARD
END:VTIMEZONE
BEGIN:VEVENT
DTSTART;TZID=UTC:20251111T190000
DTEND;TZID=UTC:20251111T200000
DTSTAMP:20260426T021027
CREATED:20251002T160308Z
LAST-MODIFIED:20251003T073952Z
UID:10001202-1762887600-1762891200@szentendreiteatrum.hu
SUMMARY:HALÁL VELENCÉBEN Thomas Mann műve\, Kulka János megjelenítésében
DESCRIPTION:Havas hegyek között egy férfi mozdul a szállodai szobában. A karmester megszokott rutinnal készülődik az esti koncertre. Múlnak a percek\, türelmesen várja a taxit. Az idő egyre lassabban telik\, s nem jön érte senki. A korábban megnyugtató\, otthonos egyedüllét egyre idegenebbé válik számára – valami megváltozott. \nKulka János 2006-ban hangoskönyvben mondta fel Thomas Mann Halál Velencében című regényét\, melyben egy idős professzor egy velencei utazás alkalmával szembesül személyisége eleddig rejtett oldalával\, amely arra készteti\, hogy szembenézzen eddigi életével. \nAz előadás különféle színházi műfajjal kísérletezik: egyszerre performance\, hangjáték és monodráma\, amelyben az élet\, a színház és az irodalom szétválaszthatatlanul összefonódik és sajátos viszonyba lép egymással. \nALKOTÓK Kulka János I Látvány: Ágh MártonI Látvány asszisztens: Ésik Zsófi I Dramaturg: Zabezsinszkij Éva I a rendező munkatársa: Hornung Gábor\nRENDEZŐ Csuja László\nPRODUCER Orlai Tibor  \nKülön köszönet az inspirációért Herczeg Tamásnak.\nAz előadás hanganyaga a PARLANDO STUDIO 2006. évben megjelent hangoskönyve alapján készült \nAz Orlai Produkciós Iroda előadása. \nAz előadás hossza: 60 perc\, szünet nélkül\nJegyár: 7900 Ft
URL:https://szentendreiteatrum.hu/event/halal-velenceben-thomas-mann-muve-kulka-janos-megjeleniteseben/
LOCATION:Hamvas Béla Pest Megyei Könyvtár színházterem\, Pátriárka utca 7.\, Szentendre\, Pest\, 2000\, Magyarország
CATEGORIES:Előadás,Irodalom,Kiemelt,Színház
ATTACH;FMTTYPE=image/jpeg:https://szentendreiteatrum.hu/wp-content/uploads/2025/10/Kulka-Halal-Velenceben.jpg
GEO:47.6694699;19.074893
X-APPLE-STRUCTURED-LOCATION;VALUE=URI;X-ADDRESS=Hamvas Béla Pest Megyei Könyvtár színházterem Pátriárka utca 7. Szentendre Pest 2000 Magyarország;X-APPLE-RADIUS=500;X-TITLE=Pátriárka utca 7.:geo:19.074893,47.6694699
END:VEVENT
END:VCALENDAR